BEGIN:VCALENDAR
VERSION:2.0
PRODID:-//AusschreibungsRadar//Timeline//DE
CALSCALE:GREGORIAN
METHOD:PUBLISH
X-WR-CALNAME:Projekt Lizenzen Jira und Confluence
X-WR-TIMEZONE:Europe/Berlin
BEGIN:VEVENT
UID:0358e557e31f1a5d@ausschreibungsradar.com
DTSTAMP:20260424T112949Z
DTSTART;VALUE=DATE:20251117
DTEND;VALUE=DATE:20251117
SUMMARY:Angebotsfrist — Lizenzen Jira und Confluence
DESCRIPTION:Phase: Ausschreibung | Beschreibung: Angebote werden eingeholt | Link: https://ausschreibungsradar.com/ausschreibung/cc12eaa8-b3d3-47fb-8ef6-f45a4a59b1d3/
URL:https://ausschreibungsradar.com/ausschreibung/cc12eaa8-b3d3-47fb-8ef6-f45a4a59b1d3/
END:VEVENT
BEGIN:VEVENT
UID:5ad69a3cee217725@ausschreibungsradar.com
DTSTAMP:20260424T112949Z
DTSTART;VALUE=DATE:20251225
DTEND;VALUE=DATE:20251225
SUMMARY:Vergabeergebnis — Lizenzen Jira und Confluence
DESCRIPTION:Phase: Vergabeergebnis | Beschreibung: Auftrag wurde zugeschlagen | Link: https://ausschreibungsradar.com/ausschreibung/6fea24d1-4923-459a-bd21-a50b9ca48a35/ | Auftragnehmer: Communardo GmbH
URL:https://ausschreibungsradar.com/ausschreibung/6fea24d1-4923-459a-bd21-a50b9ca48a35/
END:VEVENT
END:VCALENDAR
