BEGIN:VCALENDAR
VERSION:2.0
PRODID:-//AusschreibungsRadar//Timeline//DE
CALSCALE:GREGORIAN
METHOD:PUBLISH
X-WR-CALNAME:Projekt KRH Psychiatrie Wunstorf GmbH - Neubau einer Erwachsenenpsyc
X-WR-TIMEZONE:Europe/Berlin
BEGIN:VEVENT
UID:161aedd792987ff5@ausschreibungsradar.com
DTSTAMP:20260424T090855Z
DTSTART;VALUE=DATE:20250329
DTEND;VALUE=DATE:20250329
SUMMARY:Ausschreibung — KRH Psychiatrie Wunstorf GmbH - Neubau einer Erwachsenenpsyc
DESCRIPTION:Phase: Ausschreibung | Beschreibung: Offizielle Ausschreibung mit Bieterfrist. | Link: https://ausschreibungsradar.com/ausschreibung/a422718b-458f-41fd-8d28-d128b46bdb81/
URL:https://ausschreibungsradar.com/ausschreibung/a422718b-458f-41fd-8d28-d128b46bdb81/
END:VEVENT
BEGIN:VEVENT
UID:d017457adc5921bf@ausschreibungsradar.com
DTSTAMP:20260424T090855Z
DTSTART;VALUE=DATE:20250425
DTEND;VALUE=DATE:20250425
SUMMARY:Ausschreibung — KRH Psychiatrie Wunstorf GmbH - Neubau einer Erwachsenenpsyc
DESCRIPTION:Phase: Ausschreibung | Beschreibung: Angebote werden eingeholt | Link: https://ausschreibungsradar.com/ausschreibung/cc6789de-351e-4ade-affc-f4a5d5b8c844/
URL:https://ausschreibungsradar.com/ausschreibung/cc6789de-351e-4ade-affc-f4a5d5b8c844/
END:VEVENT
BEGIN:VEVENT
UID:d03d1f8aa2556064@ausschreibungsradar.com
DTSTAMP:20260424T090855Z
DTSTART;VALUE=DATE:20250425
DTEND;VALUE=DATE:20250425
SUMMARY:Ausschreibung — KRH Psychiatrie Wunstorf GmbH - Neubau einer Erwachsenenpsyc
DESCRIPTION:Phase: Ausschreibung | Beschreibung: Offizielle Ausschreibung mit Bieterfrist. | Link: https://ausschreibungsradar.com/ausschreibung/b20c195a-c124-456a-80fa-41f162c0a287/
URL:https://ausschreibungsradar.com/ausschreibung/b20c195a-c124-456a-80fa-41f162c0a287/
END:VEVENT
BEGIN:VEVENT
UID:51dd25cdb725ef2a@ausschreibungsradar.com
DTSTAMP:20260424T090855Z
DTSTART;VALUE=DATE:20250820
DTEND;VALUE=DATE:20250820
SUMMARY:Vergabeergebnis — KRH Psychiatrie Wunstorf GmbH - Neubau einer Erwachsenenpsyc
DESCRIPTION:Phase: Vergabeergebnis | Beschreibung: Verfahren noch offen | Link: https://ausschreibungsradar.com/ausschreibung/3d55785c-4397-49a0-862f-f45636468972/
URL:https://ausschreibungsradar.com/ausschreibung/3d55785c-4397-49a0-862f-f45636468972/
END:VEVENT
END:VCALENDAR
