BEGIN:VCALENDAR
VERSION:2.0
PRODID:-//AusschreibungsRadar//Timeline//DE
CALSCALE:GREGORIAN
METHOD:PUBLISH
X-WR-CALNAME:Projekt 055-25-00456 Erweiterung BT X der Universität Paderborn (Rec
X-WR-TIMEZONE:Europe/Berlin
BEGIN:VEVENT
UID:204c57631eb848bf@ausschreibungsradar.com
DTSTAMP:20260424T001626Z
DTSTART;VALUE=DATE:20250903
DTEND;VALUE=DATE:20250903
SUMMARY:Angebotsfrist — 055-25-00456 Erweiterung BT X der Universität Paderborn (Rec
DESCRIPTION:Phase: Ausschreibung | Beschreibung: Angebote werden eingeholt | Link: https://ausschreibungsradar.com/ausschreibung/b3050986-d0e5-4bbb-ba48-9c3314af8a5c/
URL:https://ausschreibungsradar.com/ausschreibung/b3050986-d0e5-4bbb-ba48-9c3314af8a5c/
END:VEVENT
BEGIN:VEVENT
UID:df1265d19163d749@ausschreibungsradar.com
DTSTAMP:20260424T001626Z
DTSTART;VALUE=DATE:20251006
DTEND;VALUE=DATE:20251006
SUMMARY:Vergabeergebnis — 055-25-00456 Erweiterung BT X der Universität Paderborn (Rec
DESCRIPTION:Phase: Vergabeergebnis | Beschreibung: Auftrag wurde zugeschlagen | Link: https://ausschreibungsradar.com/ausschreibung/cc98b12d-ec73-408c-92be-ac07f2d4df9d/
URL:https://ausschreibungsradar.com/ausschreibung/cc98b12d-ec73-408c-92be-ac07f2d4df9d/
END:VEVENT
END:VCALENDAR
