BEGIN:VCALENDAR
VERSION:2.0
PRODID:-//AusschreibungsRadar//Timeline//DE
CALSCALE:GREGORIAN
METHOD:PUBLISH
X-WR-CALNAME:Projekt Smart Energy Workspace
X-WR-TIMEZONE:Europe/Berlin
BEGIN:VEVENT
UID:436cc398fde2b637@ausschreibungsradar.com
DTSTAMP:20260425T025329Z
DTSTART;VALUE=DATE:20241108
DTEND;VALUE=DATE:20241108
SUMMARY:Ausschreibung — Smart Energy Workspace
DESCRIPTION:Phase: Ausschreibung | Beschreibung: Angebote werden eingeholt | Link: https://ausschreibungsradar.com/ausschreibung/ccac4952-c97f-4430-a356-483a754ccb8f/ | Geschätzter Wert: 225000 €
URL:https://ausschreibungsradar.com/ausschreibung/ccac4952-c97f-4430-a356-483a754ccb8f/
END:VEVENT
BEGIN:VEVENT
UID:a05c16d88d21c602@ausschreibungsradar.com
DTSTAMP:20260425T025329Z
DTSTART;VALUE=DATE:20250114
DTEND;VALUE=DATE:20250114
SUMMARY:Vergabeergebnis — Smart Energy Workspace
DESCRIPTION:Phase: Vergabeergebnis | Beschreibung: Verfahren noch offen | Link: https://ausschreibungsradar.com/ausschreibung/17b9a789-1a3d-45f1-a6d0-19439ee616f6/ | Geschätzter Wert: 225000 €
URL:https://ausschreibungsradar.com/ausschreibung/17b9a789-1a3d-45f1-a6d0-19439ee616f6/
END:VEVENT
END:VCALENDAR
