BEGIN:VCALENDAR
VERSION:2.0
PRODID:-//AusschreibungsRadar//Timeline//DE
CALSCALE:GREGORIAN
METHOD:PUBLISH
X-WR-CALNAME:Projekt Unterhaltsreinigung LRA und Nebenstellen
X-WR-TIMEZONE:Europe/Berlin
BEGIN:VEVENT
UID:41625e5f3fcc62ca@ausschreibungsradar.com
DTSTAMP:20260426T004311Z
DTSTART;VALUE=DATE:20260420
DTEND;VALUE=DATE:20260420
SUMMARY:Angebotsfrist — Unterhaltsreinigung LRA und Nebenstellen
DESCRIPTION:Phase: Ausschreibung | Beschreibung: Angebote werden eingeholt | Link: https://ausschreibungsradar.com/ausschreibung/ccd81039-b857-47aa-8353-e10b7e9a5c94/
URL:https://ausschreibungsradar.com/ausschreibung/ccd81039-b857-47aa-8353-e10b7e9a5c94/
END:VEVENT
END:VCALENDAR
