BEGIN:VCALENDAR
VERSION:2.0
PRODID:-//AusschreibungsRadar//Timeline//DE
CALSCALE:GREGORIAN
METHOD:PUBLISH
X-WR-CALNAME:Projekt Los 22 - Verwertungs- und Entsorgungsleistungen, Neubau inte
X-WR-TIMEZONE:Europe/Berlin
BEGIN:VEVENT
UID:fbe1de1d2fc2f247@ausschreibungsradar.com
DTSTAMP:20260424T143827Z
DTSTART;VALUE=DATE:20250603
DTEND;VALUE=DATE:20250603
SUMMARY:Angebotsfrist — Los 22 - Verwertungs- und Entsorgungsleistungen\, Neubau inte
DESCRIPTION:Phase: Ausschreibung | Beschreibung: Angebote werden eingeholt | Link: https://ausschreibungsradar.com/ausschreibung/cd653aaa-d026-4965-a721-25b5da209b4a/
URL:https://ausschreibungsradar.com/ausschreibung/cd653aaa-d026-4965-a721-25b5da209b4a/
END:VEVENT
BEGIN:VEVENT
UID:827c2a945e0d3b53@ausschreibungsradar.com
DTSTAMP:20260424T143827Z
DTSTART;VALUE=DATE:20250528
DTEND;VALUE=DATE:20250528
SUMMARY:Ausschreibung — Los 22 - Verwertungs- und Entsorgungsleistungen\, Neubau inte
DESCRIPTION:Phase: Ausschreibung | Beschreibung: Offizielle Ausschreibung mit Bieterfrist. | Link: https://ausschreibungsradar.com/ausschreibung/e7bee9fb-cca2-475e-9b3d-5abbc3528335/
URL:https://ausschreibungsradar.com/ausschreibung/e7bee9fb-cca2-475e-9b3d-5abbc3528335/
END:VEVENT
BEGIN:VEVENT
UID:0b1db89f4922f36e@ausschreibungsradar.com
DTSTAMP:20260424T143827Z
DTSTART;VALUE=DATE:20250528
DTEND;VALUE=DATE:20250528
SUMMARY:Ausschreibung — Los 22 - Verwertungs- und Entsorgungsleistungen\, Neubau inte
DESCRIPTION:Phase: Ausschreibung | Beschreibung: Offizielle Ausschreibung mit Bieterfrist. | Link: https://ausschreibungsradar.com/ausschreibung/45c28736-de62-466e-b71d-b093bddda249/
URL:https://ausschreibungsradar.com/ausschreibung/45c28736-de62-466e-b71d-b093bddda249/
END:VEVENT
BEGIN:VEVENT
UID:8756e75ee4cc6e24@ausschreibungsradar.com
DTSTAMP:20260424T143827Z
DTSTART;VALUE=DATE:20250731
DTEND;VALUE=DATE:20250731
SUMMARY:Vergabeergebnis — Los 22 - Verwertungs- und Entsorgungsleistungen\, Neubau inte
DESCRIPTION:Phase: Vergabeergebnis | Beschreibung: Auftrag wurde zugeschlagen | Link: https://ausschreibungsradar.com/ausschreibung/1826ffca-bd72-4a31-acd3-38e6bc6a6643/
URL:https://ausschreibungsradar.com/ausschreibung/1826ffca-bd72-4a31-acd3-38e6bc6a6643/
END:VEVENT
END:VCALENDAR
