BEGIN:VCALENDAR
VERSION:2.0
PRODID:-//AusschreibungsRadar//Timeline//DE
CALSCALE:GREGORIAN
METHOD:PUBLISH
X-WR-CALNAME:Projekt Neubau Kinderhaus Reichenbach - Elektrotechnik
X-WR-TIMEZONE:Europe/Berlin
BEGIN:VEVENT
UID:e60924e6c3a5425a@ausschreibungsradar.com
DTSTAMP:20260425T013026Z
DTSTART;VALUE=DATE:20260430
DTEND;VALUE=DATE:20260430
SUMMARY:Angebotsfrist — Neubau Kinderhaus Reichenbach - Elektrotechnik
DESCRIPTION:Phase: Ausschreibung | Beschreibung: Angebote werden eingeholt | Link: https://ausschreibungsradar.com/ausschreibung/cd6f3b85-3316-4c03-aba3-5b7a82a8df90/
URL:https://ausschreibungsradar.com/ausschreibung/cd6f3b85-3316-4c03-aba3-5b7a82a8df90/
END:VEVENT
BEGIN:VEVENT
UID:08b25c32fcfdb5d0@ausschreibungsradar.com
DTSTAMP:20260425T013026Z
DTSTART;VALUE=DATE:20260325
DTEND;VALUE=DATE:20260325
SUMMARY:Ausschreibung — Neubau Kinderhaus Reichenbach - Elektrotechnik
DESCRIPTION:Phase: Ausschreibung | Beschreibung: Offizielle Ausschreibung mit Bieterfrist. | Link: https://ausschreibungsradar.com/ausschreibung/e46aa681-b8c4-4458-b3fe-89024659548c/
URL:https://ausschreibungsradar.com/ausschreibung/e46aa681-b8c4-4458-b3fe-89024659548c/
END:VEVENT
END:VCALENDAR
