BEGIN:VCALENDAR
VERSION:2.0
PRODID:-//AusschreibungsRadar//Timeline//DE
CALSCALE:GREGORIAN
METHOD:PUBLISH
X-WR-CALNAME:Projekt BUND-Umwelthaus Elektroarbeiten 1. BA und 2.BA
X-WR-TIMEZONE:Europe/Berlin
BEGIN:VEVENT
UID:bded1e9422cd1435@ausschreibungsradar.com
DTSTAMP:20260425T161911Z
DTSTART;VALUE=DATE:20250902
DTEND;VALUE=DATE:20250902
SUMMARY:Angebotsfrist — BUND-Umwelthaus Elektroarbeiten 1. BA und 2.BA
DESCRIPTION:Phase: Ausschreibung | Beschreibung: Angebote werden eingeholt | Link: https://ausschreibungsradar.com/ausschreibung/cd745cc4-3061-419e-a920-3b9ee8afd697/
URL:https://ausschreibungsradar.com/ausschreibung/cd745cc4-3061-419e-a920-3b9ee8afd697/
END:VEVENT
END:VCALENDAR
