BEGIN:VCALENDAR
VERSION:2.0
PRODID:-//AusschreibungsRadar//Timeline//DE
CALSCALE:GREGORIAN
METHOD:PUBLISH
X-WR-CALNAME:Projekt Modernisierung und Erweiterung bestehender Mechanisch-Biolog
X-WR-TIMEZONE:Europe/Berlin
BEGIN:VEVENT
UID:9df804fc404288a3@ausschreibungsradar.com
DTSTAMP:20260424T132700Z
DTSTART;VALUE=DATE:20260420
DTEND;VALUE=DATE:20260420
SUMMARY:Angebotsfrist — Modernisierung und Erweiterung bestehender Mechanisch-Biolog
DESCRIPTION:Phase: Ausschreibung | Beschreibung: Angebote werden eingeholt | Link: https://ausschreibungsradar.com/ausschreibung/cd7c1cae-3f7f-4b20-af5f-ced4656d01e4/
URL:https://ausschreibungsradar.com/ausschreibung/cd7c1cae-3f7f-4b20-af5f-ced4656d01e4/
END:VEVENT
BEGIN:VEVENT
UID:a97ef7626c979edc@ausschreibungsradar.com
DTSTAMP:20260424T132700Z
DTSTART;VALUE=DATE:20260219
DTEND;VALUE=DATE:20260219
SUMMARY:Ausschreibung — Modernisierung und Erweiterung bestehender Mechanisch-Biolog
DESCRIPTION:Phase: Ausschreibung | Beschreibung: Offizielle Ausschreibung mit Bieterfrist. | Link: https://ausschreibungsradar.com/ausschreibung/5166eae2-e103-4870-b1db-8f189343903f/
URL:https://ausschreibungsradar.com/ausschreibung/5166eae2-e103-4870-b1db-8f189343903f/
END:VEVENT
BEGIN:VEVENT
UID:12200b5c48af71dc@ausschreibungsradar.com
DTSTAMP:20260424T132700Z
DTSTART;VALUE=DATE:20260219
DTEND;VALUE=DATE:20260219
SUMMARY:Ausschreibung — Modernisierung und Erweiterung bestehender Mechanisch-Biolog
DESCRIPTION:Phase: Ausschreibung | Beschreibung: Offizielle Ausschreibung mit Bieterfrist. | Link: https://ausschreibungsradar.com/ausschreibung/e3fdfa4a-fccb-4c38-a1fc-ba36f1e586cf/
URL:https://ausschreibungsradar.com/ausschreibung/e3fdfa4a-fccb-4c38-a1fc-ba36f1e586cf/
END:VEVENT
BEGIN:VEVENT
UID:8137ad8e600bf809@ausschreibungsradar.com
DTSTAMP:20260424T132700Z
DTSTART;VALUE=DATE:20260219
DTEND;VALUE=DATE:20260219
SUMMARY:Ausschreibung — Modernisierung und Erweiterung bestehender Mechanisch-Biolog
DESCRIPTION:Phase: Ausschreibung | Beschreibung: Offizielle Ausschreibung mit Bieterfrist. | Link: https://ausschreibungsradar.com/ausschreibung/9f944b7a-fb35-4abd-b69e-f5e6e6582286/
URL:https://ausschreibungsradar.com/ausschreibung/9f944b7a-fb35-4abd-b69e-f5e6e6582286/
END:VEVENT
END:VCALENDAR
