BEGIN:VCALENDAR
VERSION:2.0
PRODID:-//AusschreibungsRadar//Timeline//DE
CALSCALE:GREGORIAN
METHOD:PUBLISH
X-WR-CALNAME:Projekt Erweiterungsbau für die Regionale Schule Sanitz
X-WR-TIMEZONE:Europe/Berlin
BEGIN:VEVENT
UID:8e6e7396a30c6459@ausschreibungsradar.com
DTSTAMP:20260425T141439Z
DTSTART;VALUE=DATE:20250731
DTEND;VALUE=DATE:20250731
SUMMARY:Angebotsfrist — Erweiterungsbau für die Regionale Schule Sanitz
DESCRIPTION:Phase: Ausschreibung | Beschreibung: Angebote werden eingeholt | Link: https://ausschreibungsradar.com/ausschreibung/cd7ea376-fa84-4c89-b7d3-b57cd46939e1/ | Geschätzter Wert: 183665 €
URL:https://ausschreibungsradar.com/ausschreibung/cd7ea376-fa84-4c89-b7d3-b57cd46939e1/
END:VEVENT
END:VCALENDAR
