BEGIN:VCALENDAR
VERSION:2.0
PRODID:-//AusschreibungsRadar//Timeline//DE
CALSCALE:GREGORIAN
METHOD:PUBLISH
X-WR-CALNAME:Projekt Kontrolle und Prüfung Generalübernehmer Biberach C. West, AD
X-WR-TIMEZONE:Europe/Berlin
BEGIN:VEVENT
UID:3f3480f291005e2f@ausschreibungsradar.com
DTSTAMP:20260424T091249Z
DTSTART;VALUE=DATE:20250702
DTEND;VALUE=DATE:20250702
SUMMARY:Angebotsfrist — Kontrolle und Prüfung Generalübernehmer Biberach C. West\, AD
DESCRIPTION:Phase: Ausschreibung | Beschreibung: Angebote werden eingeholt | Link: https://ausschreibungsradar.com/ausschreibung/cda4220e-8cee-470a-a5a6-bee01d932729/ | Geschätzter Wert: 2400000 €
URL:https://ausschreibungsradar.com/ausschreibung/cda4220e-8cee-470a-a5a6-bee01d932729/
END:VEVENT
BEGIN:VEVENT
UID:bf32b7d5c5ce106f@ausschreibungsradar.com
DTSTAMP:20260424T091249Z
DTSTART;VALUE=DATE:20251029
DTEND;VALUE=DATE:20251029
SUMMARY:Vergabeergebnis — Kontrolle und Prüfung Generalübernehmer Biberach C. West\, AD
DESCRIPTION:Phase: Vergabeergebnis | Beschreibung: Auftrag wurde zugeschlagen | Link: https://ausschreibungsradar.com/ausschreibung/11a3eaa1-86b4-4386-9dd5-e0cdaa85a14a/
URL:https://ausschreibungsradar.com/ausschreibung/11a3eaa1-86b4-4386-9dd5-e0cdaa85a14a/
END:VEVENT
END:VCALENDAR
