BEGIN:VCALENDAR
VERSION:2.0
PRODID:-//AusschreibungsRadar//Timeline//DE
CALSCALE:GREGORIAN
METHOD:PUBLISH
X-WR-CALNAME:Projekt AOI-System
X-WR-TIMEZONE:Europe/Berlin
BEGIN:VEVENT
UID:0c64fcb70d33069c@ausschreibungsradar.com
DTSTAMP:20260423T232509Z
DTSTART;VALUE=DATE:20240116
DTEND;VALUE=DATE:20240116
SUMMARY:Angebotsfrist — AOI-System
DESCRIPTION:Phase: Ausschreibung | Beschreibung: Angebote werden eingeholt | Link: https://ausschreibungsradar.com/ausschreibung/cdc88aef-fa0d-413a-8de9-d01b23ed1ccb/
URL:https://ausschreibungsradar.com/ausschreibung/cdc88aef-fa0d-413a-8de9-d01b23ed1ccb/
END:VEVENT
BEGIN:VEVENT
UID:3810bbbcea9099ba@ausschreibungsradar.com
DTSTAMP:20260423T232509Z
DTSTART;VALUE=DATE:20241009
DTEND;VALUE=DATE:20241009
SUMMARY:Vergabeergebnis — AOI-System
DESCRIPTION:Phase: Vergabeergebnis | Beschreibung: Auftrag wurde zugeschlagen | Link: https://ausschreibungsradar.com/ausschreibung/9562fed8-0f1b-4ee3-853b-ccd0b17ebc6d/ | Geschätzter Wert: 1100000 €
URL:https://ausschreibungsradar.com/ausschreibung/9562fed8-0f1b-4ee3-853b-ccd0b17ebc6d/
END:VEVENT
END:VCALENDAR
