BEGIN:VCALENDAR
VERSION:2.0
PRODID:-//AusschreibungsRadar//Timeline//DE
CALSCALE:GREGORIAN
METHOD:PUBLISH
X-WR-CALNAME:Projekt Kläranlage 4. Reinigungsstufe - EMSR-Technik
X-WR-TIMEZONE:Europe/Berlin
BEGIN:VEVENT
UID:23ca8793d4865fd6@ausschreibungsradar.com
DTSTAMP:20260425T151523Z
DTSTART;VALUE=DATE:20240918
DTEND;VALUE=DATE:20240918
SUMMARY:Angebotsfrist — Kläranlage 4. Reinigungsstufe - EMSR-Technik
DESCRIPTION:Phase: Ausschreibung | Beschreibung: Angebote werden eingeholt | Link: https://ausschreibungsradar.com/ausschreibung/cdf98bd4-e0ed-40f0-b985-569d3cef0d65/
URL:https://ausschreibungsradar.com/ausschreibung/cdf98bd4-e0ed-40f0-b985-569d3cef0d65/
END:VEVENT
BEGIN:VEVENT
UID:edb2cd1e81976a4d@ausschreibungsradar.com
DTSTAMP:20260425T151523Z
DTSTART;VALUE=DATE:20241114
DTEND;VALUE=DATE:20241114
SUMMARY:Vergabeergebnis — Kläranlage 4. Reinigungsstufe - EMSR-Technik
DESCRIPTION:Phase: Vergabeergebnis | Beschreibung: Auftrag wurde zugeschlagen | Link: https://ausschreibungsradar.com/ausschreibung/1ce2654e-fcf9-4454-a10c-b0cc71e4d64b/
URL:https://ausschreibungsradar.com/ausschreibung/1ce2654e-fcf9-4454-a10c-b0cc71e4d64b/
END:VEVENT
END:VCALENDAR
