BEGIN:VCALENDAR
VERSION:2.0
PRODID:-//AusschreibungsRadar//Timeline//DE
CALSCALE:GREGORIAN
METHOD:PUBLISH
X-WR-CALNAME:Projekt Umbau und Sanierung Rathaus Gengenbach - Natursteinkonservie
X-WR-TIMEZONE:Europe/Berlin
BEGIN:VEVENT
UID:0dbcdd6053e2d78f@ausschreibungsradar.com
DTSTAMP:20260424T192341Z
DTSTART;VALUE=DATE:20251106
DTEND;VALUE=DATE:20251106
SUMMARY:Angebotsfrist — Umbau und Sanierung Rathaus Gengenbach - Natursteinkonservie
DESCRIPTION:Phase: Ausschreibung | Beschreibung: Angebote werden eingeholt | Link: https://ausschreibungsradar.com/ausschreibung/7653b3f4-1df9-4546-b0c9-79d3ef16b88b/
URL:https://ausschreibungsradar.com/ausschreibung/7653b3f4-1df9-4546-b0c9-79d3ef16b88b/
END:VEVENT
BEGIN:VEVENT
UID:c93e4007c76414ca@ausschreibungsradar.com
DTSTAMP:20260424T192341Z
DTSTART;VALUE=DATE:20251222
DTEND;VALUE=DATE:20251222
SUMMARY:Ausschreibung — Umbau und Sanierung Rathaus Gengenbach - Natursteinkonservie
DESCRIPTION:Phase: Ausschreibung | Beschreibung: Offizielle Ausschreibung mit Bieterfrist. | Link: https://ausschreibungsradar.com/ausschreibung/bd595364-f5a7-4a67-9c17-a48faf080f91/
URL:https://ausschreibungsradar.com/ausschreibung/bd595364-f5a7-4a67-9c17-a48faf080f91/
END:VEVENT
BEGIN:VEVENT
UID:09c52122c10bc3e8@ausschreibungsradar.com
DTSTAMP:20260424T192341Z
DTSTART;VALUE=DATE:20251229
DTEND;VALUE=DATE:20251229
SUMMARY:Vergabeergebnis — Umbau und Sanierung Rathaus Gengenbach - Natursteinkonservie
DESCRIPTION:Phase: Vergabeergebnis | Beschreibung: Auftrag wurde zugeschlagen | Link: https://ausschreibungsradar.com/ausschreibung/ce395fb0-f4f8-4f5f-9ccf-6f9c33ffa8fc/
URL:https://ausschreibungsradar.com/ausschreibung/ce395fb0-f4f8-4f5f-9ccf-6f9c33ffa8fc/
END:VEVENT
BEGIN:VEVENT
UID:05c5c5536764bcdc@ausschreibungsradar.com
DTSTAMP:20260424T192341Z
DTSTART;VALUE=DATE:20260108
DTEND;VALUE=DATE:20260108
SUMMARY:Zuschlag — Umbau und Sanierung Rathaus Gengenbach - Natursteinkonservie
DESCRIPTION:Phase: Zuschlag | Beschreibung: Vergabeergebnis — Auftrag wurde erteilt oder Verfahren beendet. | Link: https://ausschreibungsradar.com/ausschreibung/4f0a5aef-33ac-4b52-b20b-7547504ab2e2/
URL:https://ausschreibungsradar.com/ausschreibung/4f0a5aef-33ac-4b52-b20b-7547504ab2e2/
END:VEVENT
END:VCALENDAR
