BEGIN:VCALENDAR
VERSION:2.0
PRODID:-//AusschreibungsRadar//Timeline//DE
CALSCALE:GREGORIAN
METHOD:PUBLISH
X-WR-CALNAME:Projekt Bekanntmachung vergebener Auftrag: Sicherheitsdienstleistung
X-WR-TIMEZONE:Europe/Berlin
BEGIN:VEVENT
UID:b294958deac26e3c@ausschreibungsradar.com
DTSTAMP:20260424T000914Z
DTSTART;VALUE=DATE:20240704
DTEND;VALUE=DATE:20240704
SUMMARY:Ausschreibung — Bekanntmachung vergebener Auftrag: Sicherheitsdienstleistung
DESCRIPTION:Phase: Ausschreibung | Beschreibung: Angebote werden eingeholt | Link: https://ausschreibungsradar.com/ausschreibung/e92930f6-99f4-4949-8c3a-a9637a5c2ed9/
URL:https://ausschreibungsradar.com/ausschreibung/e92930f6-99f4-4949-8c3a-a9637a5c2ed9/
END:VEVENT
BEGIN:VEVENT
UID:beb71ee47a49dbf8@ausschreibungsradar.com
DTSTAMP:20260424T000914Z
DTSTART;VALUE=DATE:20250127
DTEND;VALUE=DATE:20250127
SUMMARY:Vergabeergebnis — Bekanntmachung vergebener Auftrag: Sicherheitsdienstleistung
DESCRIPTION:Phase: Vergabeergebnis | Beschreibung: Auftrag wurde zugeschlagen | Link: https://ausschreibungsradar.com/ausschreibung/ce6e2d5f-b2f2-48d9-978f-e3fca777337d/
URL:https://ausschreibungsradar.com/ausschreibung/ce6e2d5f-b2f2-48d9-978f-e3fca777337d/
END:VEVENT
BEGIN:VEVENT
UID:dc177a00f0ba772f@ausschreibungsradar.com
DTSTAMP:20260424T000914Z
DTSTART;VALUE=DATE:20250127
DTEND;VALUE=DATE:20250127
SUMMARY:Zuschlag — Bekanntmachung vergebener Auftrag: Sicherheitsdienstleistung
DESCRIPTION:Phase: Zuschlag | Beschreibung: Vergabeergebnis — Auftrag wurde erteilt oder Verfahren beendet. | Link: https://ausschreibungsradar.com/ausschreibung/07820c02-d72f-4224-bec4-b0dc5a8ea200/
URL:https://ausschreibungsradar.com/ausschreibung/07820c02-d72f-4224-bec4-b0dc5a8ea200/
END:VEVENT
END:VCALENDAR
