BEGIN:VCALENDAR
VERSION:2.0
PRODID:-//AusschreibungsRadar//Timeline//DE
CALSCALE:GREGORIAN
METHOD:PUBLISH
X-WR-CALNAME:Projekt Offenes Verfahren (EU-weit) zur Vergabe von Gebäudereinigung
X-WR-TIMEZONE:Europe/Berlin
BEGIN:VEVENT
UID:0fd19fc5b40ff4c1@ausschreibungsradar.com
DTSTAMP:20260424T191345Z
DTSTART;VALUE=DATE:20251103
DTEND;VALUE=DATE:20251103
SUMMARY:Ausschreibung — Offenes Verfahren (EU-weit) zur Vergabe von Gebäudereinigung
DESCRIPTION:Phase: Ausschreibung | Beschreibung: Offizielle Ausschreibung mit Bieterfrist. | Link: https://ausschreibungsradar.com/ausschreibung/456cbcb0-0e77-4e7f-8eb7-b69e458fd69e/
URL:https://ausschreibungsradar.com/ausschreibung/456cbcb0-0e77-4e7f-8eb7-b69e458fd69e/
END:VEVENT
BEGIN:VEVENT
UID:b78f42b9ce4a81aa@ausschreibungsradar.com
DTSTAMP:20260424T191345Z
DTSTART;VALUE=DATE:20251103
DTEND;VALUE=DATE:20251103
SUMMARY:Zuschlag — Offenes Verfahren (EU-weit) zur Vergabe von Gebäudereinigung
DESCRIPTION:Phase: Zuschlag | Beschreibung: Vergabeergebnis — Auftrag wurde erteilt oder Verfahren beendet. | Link: https://ausschreibungsradar.com/ausschreibung/92f0ad7c-fddb-439f-bd18-ee8bf5de3a94/
URL:https://ausschreibungsradar.com/ausschreibung/92f0ad7c-fddb-439f-bd18-ee8bf5de3a94/
END:VEVENT
BEGIN:VEVENT
UID:8af6d2686d12fd93@ausschreibungsradar.com
DTSTAMP:20260424T191345Z
DTSTART;VALUE=DATE:20251203
DTEND;VALUE=DATE:20251203
SUMMARY:Ausschreibung — Offenes Verfahren (EU-weit) zur Vergabe von Gebäudereinigung
DESCRIPTION:Phase: Ausschreibung | Beschreibung: Angebote werden eingeholt | Link: https://ausschreibungsradar.com/ausschreibung/cf3b1347-d785-455b-8457-dbd66f2ae28a/
URL:https://ausschreibungsradar.com/ausschreibung/cf3b1347-d785-455b-8457-dbd66f2ae28a/
END:VEVENT
BEGIN:VEVENT
UID:52738ba9312c54ef@ausschreibungsradar.com
DTSTAMP:20260424T191345Z
DTSTART;VALUE=DATE:20260401
DTEND;VALUE=DATE:20260401
SUMMARY:Vergabeergebnis — Offenes Verfahren (EU-weit) zur Vergabe von Gebäudereinigung
DESCRIPTION:Phase: Vergabeergebnis | Beschreibung: Auftrag wurde zugeschlagen | Link: https://ausschreibungsradar.com/ausschreibung/0dbc7ac4-6b3d-4b23-a03d-e3d734dbcc13/
URL:https://ausschreibungsradar.com/ausschreibung/0dbc7ac4-6b3d-4b23-a03d-e3d734dbcc13/
END:VEVENT
END:VCALENDAR
