BEGIN:VCALENDAR
VERSION:2.0
PRODID:-//AusschreibungsRadar//Timeline//DE
CALSCALE:GREGORIAN
METHOD:PUBLISH
X-WR-CALNAME:Projekt Rohbauarbeiten
X-WR-TIMEZONE:Europe/Berlin
BEGIN:VEVENT
UID:f4e6cabf4b0fc5bc@ausschreibungsradar.com
DTSTAMP:20260425T134854Z
DTSTART;VALUE=DATE:20250821
DTEND;VALUE=DATE:20250821
SUMMARY:Angebotsfrist — Rohbauarbeiten
DESCRIPTION:Phase: Ausschreibung | Beschreibung: Angebote werden eingeholt | Link: https://ausschreibungsradar.com/ausschreibung/cf4ae65f-a448-4fc8-b729-6f27a100402c/
URL:https://ausschreibungsradar.com/ausschreibung/cf4ae65f-a448-4fc8-b729-6f27a100402c/
END:VEVENT
END:VCALENDAR
