BEGIN:VCALENDAR
VERSION:2.0
PRODID:-//AusschreibungsRadar//Timeline//DE
CALSCALE:GREGORIAN
METHOD:PUBLISH
X-WR-CALNAME:Projekt Neubau Kindertagesstätte, Im Brühl 26, Schlosser
X-WR-TIMEZONE:Europe/Berlin
BEGIN:VEVENT
UID:87033a8c6ae9ded8@ausschreibungsradar.com
DTSTAMP:20260425T001839Z
DTSTART;VALUE=DATE:20241211
DTEND;VALUE=DATE:20241211
SUMMARY:Zuschlag — Neubau Kindertagesstätte\, Im Brühl 26\, Schlosser
DESCRIPTION:Phase: Zuschlag | Beschreibung: Vergabeergebnis — Auftrag wurde erteilt oder Verfahren beendet. | Link: https://ausschreibungsradar.com/ausschreibung/e187023a-284b-4081-ac4a-a717b98103d1/
URL:https://ausschreibungsradar.com/ausschreibung/e187023a-284b-4081-ac4a-a717b98103d1/
END:VEVENT
BEGIN:VEVENT
UID:1c6fdf385140dc20@ausschreibungsradar.com
DTSTAMP:20260425T001839Z
DTSTART;VALUE=DATE:20241218
DTEND;VALUE=DATE:20241218
SUMMARY:Ausschreibung — Neubau Kindertagesstätte\, Im Brühl 26\, Schlosser
DESCRIPTION:Phase: Ausschreibung | Beschreibung: Angebote werden eingeholt | Link: https://ausschreibungsradar.com/ausschreibung/cf66e762-a5c5-463e-8a46-8dbc199a09ba/
URL:https://ausschreibungsradar.com/ausschreibung/cf66e762-a5c5-463e-8a46-8dbc199a09ba/
END:VEVENT
BEGIN:VEVENT
UID:3b3f2cd7de8cfb15@ausschreibungsradar.com
DTSTAMP:20260425T001839Z
DTSTART;VALUE=DATE:20250116
DTEND;VALUE=DATE:20250116
SUMMARY:Ausschreibung — Neubau Kindertagesstätte\, Im Brühl 26\, Schlosser
DESCRIPTION:Phase: Ausschreibung | Beschreibung: Offizielle Ausschreibung mit Bieterfrist. | Link: https://ausschreibungsradar.com/ausschreibung/b261e4c5-436a-4379-9ac3-89f6025eb44d/
URL:https://ausschreibungsradar.com/ausschreibung/b261e4c5-436a-4379-9ac3-89f6025eb44d/
END:VEVENT
BEGIN:VEVENT
UID:3ff0745718e29a13@ausschreibungsradar.com
DTSTAMP:20260425T001839Z
DTSTART;VALUE=DATE:20250213
DTEND;VALUE=DATE:20250213
SUMMARY:Vergabeergebnis — Neubau Kindertagesstätte\, Im Brühl 26\, Schlosser
DESCRIPTION:Phase: Vergabeergebnis | Beschreibung: Mittel nicht ausreichend | Link: https://ausschreibungsradar.com/ausschreibung/0b45adfb-329d-4df5-8649-e772b74a24c5/
URL:https://ausschreibungsradar.com/ausschreibung/0b45adfb-329d-4df5-8649-e772b74a24c5/
END:VEVENT
END:VCALENDAR
