BEGIN:VCALENDAR
VERSION:2.0
PRODID:-//AusschreibungsRadar//Timeline//DE
CALSCALE:GREGORIAN
METHOD:PUBLISH
X-WR-CALNAME:Projekt Elektroinstallationsarbeiten
X-WR-TIMEZONE:Europe/Berlin
BEGIN:VEVENT
UID:620810674339e691@ausschreibungsradar.com
DTSTAMP:20260425T205625Z
DTSTART;VALUE=DATE:20241118
DTEND;VALUE=DATE:20241118
SUMMARY:Angebotsfrist — Elektroinstallationsarbeiten
DESCRIPTION:Phase: Ausschreibung | Beschreibung: Angebote werden eingeholt | Link: https://ausschreibungsradar.com/ausschreibung/cfaf8f44-c654-498f-9dd1-8867ad646144/
URL:https://ausschreibungsradar.com/ausschreibung/cfaf8f44-c654-498f-9dd1-8867ad646144/
END:VEVENT
BEGIN:VEVENT
UID:10e12b61c0d8d7e5@ausschreibungsradar.com
DTSTAMP:20260425T205625Z
DTSTART;VALUE=DATE:20241111
DTEND;VALUE=DATE:20241111
SUMMARY:Ausschreibung — Elektroinstallationsarbeiten
DESCRIPTION:Phase: Ausschreibung | Beschreibung: Offizielle Ausschreibung mit Bieterfrist. | Link: https://ausschreibungsradar.com/ausschreibung/4e770f54-aa91-4c45-b469-3e09cb7e1bcc/
URL:https://ausschreibungsradar.com/ausschreibung/4e770f54-aa91-4c45-b469-3e09cb7e1bcc/
END:VEVENT
BEGIN:VEVENT
UID:77e9de7386e16d2a@ausschreibungsradar.com
DTSTAMP:20260425T205625Z
DTSTART;VALUE=DATE:20260120
DTEND;VALUE=DATE:20260120
SUMMARY:Vergabeergebnis — Elektroinstallationsarbeiten
DESCRIPTION:Phase: Vergabeergebnis | Beschreibung: Auftrag wurde zugeschlagen | Link: https://ausschreibungsradar.com/ausschreibung/17423416-538c-4955-b9ec-94ded4af3d10/
URL:https://ausschreibungsradar.com/ausschreibung/17423416-538c-4955-b9ec-94ded4af3d10/
END:VEVENT
END:VCALENDAR
