BEGIN:VCALENDAR
VERSION:2.0
PRODID:-//AusschreibungsRadar//Timeline//DE
CALSCALE:GREGORIAN
METHOD:PUBLISH
X-WR-CALNAME:Projekt Speichererweiterung Primera
X-WR-TIMEZONE:Europe/Berlin
BEGIN:VEVENT
UID:781533369a7961e4@ausschreibungsradar.com
DTSTAMP:20260424T041914Z
DTSTART;VALUE=DATE:20250314
DTEND;VALUE=DATE:20250314
SUMMARY:Angebotsfrist — Speichererweiterung Primera
DESCRIPTION:Phase: Ausschreibung | Beschreibung: Angebote werden eingeholt | Link: https://ausschreibungsradar.com/ausschreibung/cfb3277e-9d87-4669-8794-d91885518da3/
URL:https://ausschreibungsradar.com/ausschreibung/cfb3277e-9d87-4669-8794-d91885518da3/
END:VEVENT
BEGIN:VEVENT
UID:4361bf90fbb71429@ausschreibungsradar.com
DTSTAMP:20260424T041914Z
DTSTART;VALUE=DATE:20250324
DTEND;VALUE=DATE:20250324
SUMMARY:Vergabeergebnis — Speichererweiterung Primera
DESCRIPTION:Phase: Vergabeergebnis | Beschreibung: Auftrag wurde zugeschlagen | Link: https://ausschreibungsradar.com/ausschreibung/ee9bd95b-e61b-4114-92a0-595663292460/
URL:https://ausschreibungsradar.com/ausschreibung/ee9bd95b-e61b-4114-92a0-595663292460/
END:VEVENT
END:VCALENDAR
