BEGIN:VCALENDAR
VERSION:2.0
PRODID:-//AusschreibungsRadar//Timeline//DE
CALSCALE:GREGORIAN
METHOD:PUBLISH
X-WR-CALNAME:Projekt Abfallentsorgung und Reinigung Parkplätze im Bereich Saarbrü
X-WR-TIMEZONE:Europe/Berlin
BEGIN:VEVENT
UID:e03a3e9fd0dc73f6@ausschreibungsradar.com
DTSTAMP:20260425T124317Z
DTSTART;VALUE=DATE:20240320
DTEND;VALUE=DATE:20240320
SUMMARY:Angebotsfrist — Abfallentsorgung und Reinigung Parkplätze im Bereich Saarbrü
DESCRIPTION:Phase: Ausschreibung | Beschreibung: Angebote werden eingeholt | Link: https://ausschreibungsradar.com/ausschreibung/cae60aec-f7dd-4729-9b84-4565fe335f50/
URL:https://ausschreibungsradar.com/ausschreibung/cae60aec-f7dd-4729-9b84-4565fe335f50/
END:VEVENT
BEGIN:VEVENT
UID:07913b87b17735c3@ausschreibungsradar.com
DTSTAMP:20260425T124317Z
DTSTART;VALUE=DATE:20240503
DTEND;VALUE=DATE:20240503
SUMMARY:Ausschreibung — Abfallentsorgung und Reinigung Parkplätze im Bereich Saarbrü
DESCRIPTION:Phase: Ausschreibung | Beschreibung: Offizielle Ausschreibung mit Bieterfrist. | Link: https://ausschreibungsradar.com/ausschreibung/ted-263133-2024/
URL:https://ausschreibungsradar.com/ausschreibung/ted-263133-2024/
END:VEVENT
BEGIN:VEVENT
UID:cf941bd4479fadd1@ausschreibungsradar.com
DTSTAMP:20260425T124317Z
DTSTART;VALUE=DATE:20240516
DTEND;VALUE=DATE:20240516
SUMMARY:Vergabeergebnis — Abfallentsorgung und Reinigung Parkplätze im Bereich Saarbrü
DESCRIPTION:Phase: Vergabeergebnis | Beschreibung: Auftrag wurde zugeschlagen | Link: https://ausschreibungsradar.com/ausschreibung/cff1cad4-4335-4565-8d26-d24283f75601/
URL:https://ausschreibungsradar.com/ausschreibung/cff1cad4-4335-4565-8d26-d24283f75601/
END:VEVENT
BEGIN:VEVENT
UID:ae9b8c64f86e2b64@ausschreibungsradar.com
DTSTAMP:20260425T124317Z
DTSTART;VALUE=DATE:20240603
DTEND;VALUE=DATE:20240603
SUMMARY:Zuschlag — Abfallentsorgung und Reinigung Parkplätze im Bereich Saarbrü
DESCRIPTION:Phase: Zuschlag | Beschreibung: Vergabeergebnis — Auftrag wurde erteilt oder Verfahren beendet. | Link: https://ausschreibungsradar.com/ausschreibung/4a7e862d-4b0c-4711-aa58-f34f174b2da2/
URL:https://ausschreibungsradar.com/ausschreibung/4a7e862d-4b0c-4711-aa58-f34f174b2da2/
END:VEVENT
END:VCALENDAR
