BEGIN:VCALENDAR
VERSION:2.0
PRODID:-//AusschreibungsRadar//Timeline//DE
CALSCALE:GREGORIAN
METHOD:PUBLISH
X-WR-CALNAME:Projekt REZ NORD 45ind AA Bremen-Bremerhaven
X-WR-TIMEZONE:Europe/Berlin
BEGIN:VEVENT
UID:f4e48b65b4b9ab26@ausschreibungsradar.com
DTSTAMP:20260426T040401Z
DTSTART;VALUE=DATE:20260220
DTEND;VALUE=DATE:20260220
SUMMARY:Zuschlag — REZ NORD 45ind AA Bremen-Bremerhaven
DESCRIPTION:Phase: Zuschlag | Beschreibung: Vergabeergebnis — Auftrag wurde erteilt oder Verfahren beendet. | Link: https://ausschreibungsradar.com/ausschreibung/9a12b6da-6247-4e44-b480-050ec5555f8c/
URL:https://ausschreibungsradar.com/ausschreibung/9a12b6da-6247-4e44-b480-050ec5555f8c/
END:VEVENT
BEGIN:VEVENT
UID:4f6f88143f6cb6b3@ausschreibungsradar.com
DTSTAMP:20260426T040401Z
DTSTART;VALUE=DATE:20260320
DTEND;VALUE=DATE:20260320
SUMMARY:Ausschreibung — REZ NORD 45ind AA Bremen-Bremerhaven
DESCRIPTION:Phase: Ausschreibung | Beschreibung: Offizielle Ausschreibung mit Bieterfrist. | Link: https://ausschreibungsradar.com/ausschreibung/d020cbd1-90f0-45e2-a6c5-afb59501d33a/
URL:https://ausschreibungsradar.com/ausschreibung/d020cbd1-90f0-45e2-a6c5-afb59501d33a/
END:VEVENT
BEGIN:VEVENT
UID:8ead0771254792e7@ausschreibungsradar.com
DTSTAMP:20260426T040401Z
DTSTART;VALUE=DATE:20260324
DTEND;VALUE=DATE:20260324
SUMMARY:Ausschreibung — REZ NORD 45ind AA Bremen-Bremerhaven
DESCRIPTION:Phase: Ausschreibung | Beschreibung: Offizielle Ausschreibung mit Bieterfrist. | Link: https://ausschreibungsradar.com/ausschreibung/1976f19e-b7c0-486b-9b3e-f2b697958444/
URL:https://ausschreibungsradar.com/ausschreibung/1976f19e-b7c0-486b-9b3e-f2b697958444/
END:VEVENT
END:VCALENDAR
