BEGIN:VCALENDAR
VERSION:2.0
PRODID:-//AusschreibungsRadar//Timeline//DE
CALSCALE:GREGORIAN
METHOD:PUBLISH
X-WR-CALNAME:Projekt Digital Cutter
X-WR-TIMEZONE:Europe/Berlin
BEGIN:VEVENT
UID:b276d83651ca4547@ausschreibungsradar.com
DTSTAMP:20260425T112601Z
DTSTART;VALUE=DATE:20250327
DTEND;VALUE=DATE:20250327
SUMMARY:Ausschreibung — Digital Cutter
DESCRIPTION:Phase: Ausschreibung | Beschreibung: Angebote werden eingeholt | Link: https://ausschreibungsradar.com/ausschreibung/d0364ae1-ef2b-4c2c-aefe-b1b553bd5792/
URL:https://ausschreibungsradar.com/ausschreibung/d0364ae1-ef2b-4c2c-aefe-b1b553bd5792/
END:VEVENT
BEGIN:VEVENT
UID:78ddd5181e068e0b@ausschreibungsradar.com
DTSTAMP:20260425T112601Z
DTSTART;VALUE=DATE:20250327
DTEND;VALUE=DATE:20250327
SUMMARY:Ausschreibung — Digital Cutter
DESCRIPTION:Phase: Ausschreibung | Beschreibung: Offizielle Ausschreibung mit Bieterfrist. | Link: https://ausschreibungsradar.com/ausschreibung/4e760b58-d25f-4624-8747-4502774c9298/
URL:https://ausschreibungsradar.com/ausschreibung/4e760b58-d25f-4624-8747-4502774c9298/
END:VEVENT
END:VCALENDAR
