BEGIN:VCALENDAR
VERSION:2.0
PRODID:-//AusschreibungsRadar//Timeline//DE
CALSCALE:GREGORIAN
METHOD:PUBLISH
X-WR-CALNAME:Projekt Neubau Zentralbau II, Heizungs- und Kälteanlage
X-WR-TIMEZONE:Europe/Berlin
BEGIN:VEVENT
UID:6f759f1c8626e98b@ausschreibungsradar.com
DTSTAMP:20260424T174213Z
DTSTART;VALUE=DATE:20251014
DTEND;VALUE=DATE:20251014
SUMMARY:Angebotsfrist — Neubau Zentralbau II\, Heizungs- und Kälteanlage
DESCRIPTION:Phase: Ausschreibung | Beschreibung: Angebote werden eingeholt | Link: https://ausschreibungsradar.com/ausschreibung/d139ac31-41e8-49a5-a53a-37e3fee34f4c/
URL:https://ausschreibungsradar.com/ausschreibung/d139ac31-41e8-49a5-a53a-37e3fee34f4c/
END:VEVENT
BEGIN:VEVENT
UID:0b99308998e202e3@ausschreibungsradar.com
DTSTAMP:20260424T174213Z
DTSTART;VALUE=DATE:20250825
DTEND;VALUE=DATE:20250825
SUMMARY:Ausschreibung — Neubau Zentralbau II\, Heizungs- und Kälteanlage
DESCRIPTION:Phase: Ausschreibung | Beschreibung: Offizielle Ausschreibung mit Bieterfrist. | Link: https://ausschreibungsradar.com/ausschreibung/3d699fcc-ce78-4160-9d4e-60272399f57c/
URL:https://ausschreibungsradar.com/ausschreibung/3d699fcc-ce78-4160-9d4e-60272399f57c/
END:VEVENT
BEGIN:VEVENT
UID:d619c315a5d6f7d5@ausschreibungsradar.com
DTSTAMP:20260424T174213Z
DTSTART;VALUE=DATE:20250825
DTEND;VALUE=DATE:20250825
SUMMARY:Ausschreibung — Neubau Zentralbau II\, Heizungs- und Kälteanlage
DESCRIPTION:Phase: Ausschreibung | Beschreibung: Offizielle Ausschreibung mit Bieterfrist. | Link: https://ausschreibungsradar.com/ausschreibung/5e43aaff-a0ea-4728-9ba9-b0d011dd2080/
URL:https://ausschreibungsradar.com/ausschreibung/5e43aaff-a0ea-4728-9ba9-b0d011dd2080/
END:VEVENT
BEGIN:VEVENT
UID:ace6c469f5108ab2@ausschreibungsradar.com
DTSTAMP:20260424T174213Z
DTSTART;VALUE=DATE:20251204
DTEND;VALUE=DATE:20251204
SUMMARY:Vergabeergebnis — Neubau Zentralbau II\, Heizungs- und Kälteanlage
DESCRIPTION:Phase: Vergabeergebnis | Beschreibung: Auftrag wurde zugeschlagen | Link: https://ausschreibungsradar.com/ausschreibung/ca93ee0a-7f6a-42e3-802d-e529cdee5515/ | Geschätzter Wert: 4053784 €
URL:https://ausschreibungsradar.com/ausschreibung/ca93ee0a-7f6a-42e3-802d-e529cdee5515/
END:VEVENT
END:VCALENDAR
