BEGIN:VCALENDAR
VERSION:2.0
PRODID:-//AusschreibungsRadar//Timeline//DE
CALSCALE:GREGORIAN
METHOD:PUBLISH
X-WR-CALNAME:Projekt Beschaffung eines LKW für die Straßenmeisterei Bonndorf
X-WR-TIMEZONE:Europe/Berlin
BEGIN:VEVENT
UID:70c750521576e78d@ausschreibungsradar.com
DTSTAMP:20260425T203923Z
DTSTART;VALUE=DATE:20250108
DTEND;VALUE=DATE:20250108
SUMMARY:Angebotsfrist — Beschaffung eines LKW für die Straßenmeisterei Bonndorf
DESCRIPTION:Phase: Ausschreibung | Beschreibung: Angebote werden eingeholt | Link: https://ausschreibungsradar.com/ausschreibung/9554bc7a-be87-4435-a79c-91db0b7d47a6/
URL:https://ausschreibungsradar.com/ausschreibung/9554bc7a-be87-4435-a79c-91db0b7d47a6/
END:VEVENT
BEGIN:VEVENT
UID:e58deb9fb60649a7@ausschreibungsradar.com
DTSTAMP:20260425T203923Z
DTSTART;VALUE=DATE:20250401
DTEND;VALUE=DATE:20250401
SUMMARY:Vergabeergebnis — Beschaffung eines LKW für die Straßenmeisterei Bonndorf
DESCRIPTION:Phase: Vergabeergebnis | Beschreibung: Auftrag wurde zugeschlagen | Link: https://ausschreibungsradar.com/ausschreibung/d1441f4e-68a8-433e-8367-f71586a2a26a/
URL:https://ausschreibungsradar.com/ausschreibung/d1441f4e-68a8-433e-8367-f71586a2a26a/
END:VEVENT
END:VCALENDAR
