BEGIN:VCALENDAR
VERSION:2.0
PRODID:-//AusschreibungsRadar//Timeline//DE
CALSCALE:GREGORIAN
METHOD:PUBLISH
X-WR-CALNAME:Projekt Staatliche Grund- und Regelschule Niederorschel Neubau Turnh
X-WR-TIMEZONE:Europe/Berlin
BEGIN:VEVENT
UID:3477eedf316a1082@ausschreibungsradar.com
DTSTAMP:20260424T213753Z
DTSTART;VALUE=DATE:20260309
DTEND;VALUE=DATE:20260309
SUMMARY:Angebotsfrist — Staatliche Grund- und Regelschule Niederorschel Neubau Turnh
DESCRIPTION:Phase: Ausschreibung | Beschreibung: Angebote werden eingeholt | Link: https://ausschreibungsradar.com/ausschreibung/d1cb354f-bfe5-43d5-ac4c-b31cc9a41c57/
URL:https://ausschreibungsradar.com/ausschreibung/d1cb354f-bfe5-43d5-ac4c-b31cc9a41c57/
END:VEVENT
BEGIN:VEVENT
UID:1379c3486002f850@ausschreibungsradar.com
DTSTAMP:20260424T213753Z
DTSTART;VALUE=DATE:20260304
DTEND;VALUE=DATE:20260304
SUMMARY:Ausschreibung — Staatliche Grund- und Regelschule Niederorschel Neubau Turnh
DESCRIPTION:Phase: Ausschreibung | Beschreibung: Offizielle Ausschreibung mit Bieterfrist. | Link: https://ausschreibungsradar.com/ausschreibung/25062858/
URL:https://ausschreibungsradar.com/ausschreibung/25062858/
END:VEVENT
BEGIN:VEVENT
UID:a3ada7ca1b907a4e@ausschreibungsradar.com
DTSTAMP:20260424T213753Z
DTSTART;VALUE=DATE:20260410
DTEND;VALUE=DATE:20260410
SUMMARY:Vergabeergebnis — Staatliche Grund- und Regelschule Niederorschel Neubau Turnh
DESCRIPTION:Phase: Vergabeergebnis | Beschreibung: Auftrag wurde zugeschlagen | Link: https://ausschreibungsradar.com/ausschreibung/1f337d9f-242b-4bd8-a732-38eab9424f44/
URL:https://ausschreibungsradar.com/ausschreibung/1f337d9f-242b-4bd8-a732-38eab9424f44/
END:VEVENT
END:VCALENDAR
