BEGIN:VCALENDAR
VERSION:2.0
PRODID:-//AusschreibungsRadar//Timeline//DE
CALSCALE:GREGORIAN
METHOD:PUBLISH
X-WR-CALNAME:Projekt Planung des Neubau Wärmeverbund Bodensee-Therme in Konstanz 
X-WR-TIMEZONE:Europe/Berlin
BEGIN:VEVENT
UID:1109dbce2ff7a60e@ausschreibungsradar.com
DTSTAMP:20260425T035357Z
DTSTART;VALUE=DATE:20250725
DTEND;VALUE=DATE:20250725
SUMMARY:Ausschreibung — Planung des Neubau Wärmeverbund Bodensee-Therme in Konstanz 
DESCRIPTION:Phase: Ausschreibung | Beschreibung: Angebote werden eingeholt | Link: https://ausschreibungsradar.com/ausschreibung/d1fbd363-44b3-4519-a1fc-d591c065d894/
URL:https://ausschreibungsradar.com/ausschreibung/d1fbd363-44b3-4519-a1fc-d591c065d894/
END:VEVENT
BEGIN:VEVENT
UID:543506ff655e583b@ausschreibungsradar.com
DTSTAMP:20260425T035357Z
DTSTART;VALUE=DATE:20260206
DTEND;VALUE=DATE:20260206
SUMMARY:Vergabeergebnis — Planung des Neubau Wärmeverbund Bodensee-Therme in Konstanz 
DESCRIPTION:Phase: Vergabeergebnis | Beschreibung: Auftrag wurde zugeschlagen | Link: https://ausschreibungsradar.com/ausschreibung/4bbdbb85-11cf-4e32-8df0-5df86c8d27cb/
URL:https://ausschreibungsradar.com/ausschreibung/4bbdbb85-11cf-4e32-8df0-5df86c8d27cb/
END:VEVENT
END:VCALENDAR
