BEGIN:VCALENDAR
VERSION:2.0
PRODID:-//AusschreibungsRadar//Timeline//DE
CALSCALE:GREGORIAN
METHOD:PUBLISH
X-WR-CALNAME:Projekt Planungsleistungen energetische Sanierung Lehrschwimmbecken 
X-WR-TIMEZONE:Europe/Berlin
BEGIN:VEVENT
UID:d923acd5c7f708cd@ausschreibungsradar.com
DTSTAMP:20260426T043011Z
DTSTART;VALUE=DATE:20250918
DTEND;VALUE=DATE:20250918
SUMMARY:Angebotsfrist — Planungsleistungen energetische Sanierung Lehrschwimmbecken 
DESCRIPTION:Phase: Ausschreibung | Beschreibung: Angebote werden eingeholt | Link: https://ausschreibungsradar.com/ausschreibung/d27f1aff-ac59-405d-ace2-d99302869863/
URL:https://ausschreibungsradar.com/ausschreibung/d27f1aff-ac59-405d-ace2-d99302869863/
END:VEVENT
BEGIN:VEVENT
UID:fba250c016bb1823@ausschreibungsradar.com
DTSTAMP:20260426T043011Z
DTSTART;VALUE=DATE:20251127
DTEND;VALUE=DATE:20251127
SUMMARY:Vergabeergebnis — Planungsleistungen energetische Sanierung Lehrschwimmbecken 
DESCRIPTION:Phase: Vergabeergebnis | Beschreibung: Auftrag wurde zugeschlagen | Link: https://ausschreibungsradar.com/ausschreibung/2976bc5f-8b53-42bd-b62e-3eb41aa8009a/
URL:https://ausschreibungsradar.com/ausschreibung/2976bc5f-8b53-42bd-b62e-3eb41aa8009a/
END:VEVENT
END:VCALENDAR
