BEGIN:VCALENDAR
VERSION:2.0
PRODID:-//AusschreibungsRadar//Timeline//DE
CALSCALE:GREGORIAN
METHOD:PUBLISH
X-WR-CALNAME:Projekt Neubau Rathaus Elmshorn - Elektroinstallationsarbeiten
X-WR-TIMEZONE:Europe/Berlin
BEGIN:VEVENT
UID:4baf519860f82e21@ausschreibungsradar.com
DTSTAMP:20260424T014228Z
DTSTART;VALUE=DATE:20260402
DTEND;VALUE=DATE:20260402
SUMMARY:Angebotsfrist — Neubau Rathaus Elmshorn - Elektroinstallationsarbeiten
DESCRIPTION:Phase: Ausschreibung | Beschreibung: Angebote werden eingeholt | Link: https://ausschreibungsradar.com/ausschreibung/d2b6e95a-e5d2-494d-b40b-9ad1552e435f/
URL:https://ausschreibungsradar.com/ausschreibung/d2b6e95a-e5d2-494d-b40b-9ad1552e435f/
END:VEVENT
BEGIN:VEVENT
UID:b3de05fa3e0ae981@ausschreibungsradar.com
DTSTAMP:20260424T014228Z
DTSTART;VALUE=DATE:20260211
DTEND;VALUE=DATE:20260211
SUMMARY:Ausschreibung — Neubau Rathaus Elmshorn - Elektroinstallationsarbeiten
DESCRIPTION:Phase: Ausschreibung | Beschreibung: Offizielle Ausschreibung mit Bieterfrist. | Link: https://ausschreibungsradar.com/ausschreibung/967c26f4-c634-4782-a885-9556ff3bfc69/
URL:https://ausschreibungsradar.com/ausschreibung/967c26f4-c634-4782-a885-9556ff3bfc69/
END:VEVENT
END:VCALENDAR
