BEGIN:VCALENDAR
VERSION:2.0
PRODID:-//AusschreibungsRadar//Timeline//DE
CALSCALE:GREGORIAN
METHOD:PUBLISH
X-WR-CALNAME:Projekt Kita Ringstraße
X-WR-TIMEZONE:Europe/Berlin
BEGIN:VEVENT
UID:feb8e0b03819ae7c@ausschreibungsradar.com
DTSTAMP:20260424T172133Z
DTSTART;VALUE=DATE:20260218
DTEND;VALUE=DATE:20260218
SUMMARY:Zuschlag — Kita Ringstraße
DESCRIPTION:Phase: Zuschlag | Beschreibung: Vergabeergebnis — Auftrag wurde erteilt oder Verfahren beendet. | Link: https://ausschreibungsradar.com/ausschreibung/f0d371ac-6d92-4cbf-8adb-7226ff4a7689/
URL:https://ausschreibungsradar.com/ausschreibung/f0d371ac-6d92-4cbf-8adb-7226ff4a7689/
END:VEVENT
BEGIN:VEVENT
UID:00522f23d8abfd5a@ausschreibungsradar.com
DTSTAMP:20260424T172133Z
DTSTART;VALUE=DATE:20260219
DTEND;VALUE=DATE:20260219
SUMMARY:Zuschlag — Kita Ringstraße
DESCRIPTION:Phase: Zuschlag | Beschreibung: Vergabeergebnis — Auftrag wurde erteilt oder Verfahren beendet. | Link: https://ausschreibungsradar.com/ausschreibung/9ec0a6b6-b15a-4ac1-a28c-806638247e73/
URL:https://ausschreibungsradar.com/ausschreibung/9ec0a6b6-b15a-4ac1-a28c-806638247e73/
END:VEVENT
BEGIN:VEVENT
UID:d3fc7c9e700799f9@ausschreibungsradar.com
DTSTAMP:20260424T172133Z
DTSTART;VALUE=DATE:20260219
DTEND;VALUE=DATE:20260219
SUMMARY:Zuschlag — Kita Ringstraße
DESCRIPTION:Phase: Zuschlag | Beschreibung: Vergabeergebnis — Auftrag wurde erteilt oder Verfahren beendet. | Link: https://ausschreibungsradar.com/ausschreibung/3923dcf3-54b9-45f3-baf8-3241f48b9dc6/
URL:https://ausschreibungsradar.com/ausschreibung/3923dcf3-54b9-45f3-baf8-3241f48b9dc6/
END:VEVENT
BEGIN:VEVENT
UID:d6f4a68cdbaa4199@ausschreibungsradar.com
DTSTAMP:20260424T172133Z
DTSTART;VALUE=DATE:20260409
DTEND;VALUE=DATE:20260409
SUMMARY:Angebotsfrist — Kita Ringstraße
DESCRIPTION:Phase: Ausschreibung | Beschreibung: Angebote werden eingeholt | Link: https://ausschreibungsradar.com/ausschreibung/d2b8ff0f-32ee-471c-a5f5-7d39ad7cf040/
URL:https://ausschreibungsradar.com/ausschreibung/d2b8ff0f-32ee-471c-a5f5-7d39ad7cf040/
END:VEVENT
BEGIN:VEVENT
UID:657ed0850442fa30@ausschreibungsradar.com
DTSTAMP:20260424T172133Z
DTSTART;VALUE=DATE:20260301
DTEND;VALUE=DATE:20260301
SUMMARY:Ausschreibung — Kita Ringstraße
DESCRIPTION:Phase: Ausschreibung | Beschreibung: Offizielle Ausschreibung mit Bieterfrist. | Link: https://ausschreibungsradar.com/ausschreibung/94c89567-1f14-488f-9cfd-f22042bd87d8/
URL:https://ausschreibungsradar.com/ausschreibung/94c89567-1f14-488f-9cfd-f22042bd87d8/
END:VEVENT
BEGIN:VEVENT
UID:1c709eb08902b4dc@ausschreibungsradar.com
DTSTAMP:20260424T172133Z
DTSTART;VALUE=DATE:20260301
DTEND;VALUE=DATE:20260301
SUMMARY:Ausschreibung — Kita Ringstraße
DESCRIPTION:Phase: Ausschreibung | Beschreibung: Offizielle Ausschreibung mit Bieterfrist. | Link: https://ausschreibungsradar.com/ausschreibung/9c2300c1-ac7b-4e49-994e-f185558201ba/
URL:https://ausschreibungsradar.com/ausschreibung/9c2300c1-ac7b-4e49-994e-f185558201ba/
END:VEVENT
END:VCALENDAR
