BEGIN:VCALENDAR
VERSION:2.0
PRODID:-//AusschreibungsRadar//Timeline//DE
CALSCALE:GREGORIAN
METHOD:PUBLISH
X-WR-CALNAME:Projekt Belieferung der Bayerischen Polizei mit Dienstfahrzeugen (Ka
X-WR-TIMEZONE:Europe/Berlin
BEGIN:VEVENT
UID:852102c2fe4dd852@ausschreibungsradar.com
DTSTAMP:20260424T120556Z
DTSTART;VALUE=DATE:20250212
DTEND;VALUE=DATE:20250212
SUMMARY:Angebotsfrist — Belieferung der Bayerischen Polizei mit Dienstfahrzeugen (Ka
DESCRIPTION:Phase: Ausschreibung | Beschreibung: Angebote werden eingeholt | Link: https://ausschreibungsradar.com/ausschreibung/d3b74fc0-9dd3-4bf4-bdb0-05396ba3a5dd/ | Geschätzter Wert: 8398191 €
URL:https://ausschreibungsradar.com/ausschreibung/d3b74fc0-9dd3-4bf4-bdb0-05396ba3a5dd/
END:VEVENT
BEGIN:VEVENT
UID:c4bafa99ceae161f@ausschreibungsradar.com
DTSTAMP:20260424T120556Z
DTSTART;VALUE=DATE:20250422
DTEND;VALUE=DATE:20250422
SUMMARY:Vergabeergebnis — Belieferung der Bayerischen Polizei mit Dienstfahrzeugen (Ka
DESCRIPTION:Phase: Vergabeergebnis | Beschreibung: Auftrag wurde zugeschlagen | Link: https://ausschreibungsradar.com/ausschreibung/d2fb2b9f-d3f8-487a-905d-d6e24c507b00/
URL:https://ausschreibungsradar.com/ausschreibung/d2fb2b9f-d3f8-487a-905d-d6e24c507b00/
END:VEVENT
END:VCALENDAR
