BEGIN:VCALENDAR
VERSION:2.0
PRODID:-//AusschreibungsRadar//Timeline//DE
CALSCALE:GREGORIAN
METHOD:PUBLISH
X-WR-CALNAME:Projekt Kreishausneubau Distanzüberwachung
X-WR-TIMEZONE:Europe/Berlin
BEGIN:VEVENT
UID:40d0131e8a0fc827@ausschreibungsradar.com
DTSTAMP:20260424T155322Z
DTSTART;VALUE=DATE:20260113
DTEND;VALUE=DATE:20260113
SUMMARY:Angebotsfrist — Kreishausneubau Distanzüberwachung
DESCRIPTION:Phase: Ausschreibung | Beschreibung: Angebote werden eingeholt | Link: https://ausschreibungsradar.com/ausschreibung/d3399f50-08f7-4739-aa12-9c8de798095a/
URL:https://ausschreibungsradar.com/ausschreibung/d3399f50-08f7-4739-aa12-9c8de798095a/
END:VEVENT
BEGIN:VEVENT
UID:76bd7c8170daa9c4@ausschreibungsradar.com
DTSTAMP:20260424T155322Z
DTSTART;VALUE=DATE:20260213
DTEND;VALUE=DATE:20260213
SUMMARY:Vergabeergebnis — Kreishausneubau Distanzüberwachung
DESCRIPTION:Phase: Vergabeergebnis | Beschreibung: Auftrag wurde zugeschlagen | Link: https://ausschreibungsradar.com/ausschreibung/3020c487-176e-4c8b-9750-952e8197e020/
URL:https://ausschreibungsradar.com/ausschreibung/3020c487-176e-4c8b-9750-952e8197e020/
END:VEVENT
END:VCALENDAR
