BEGIN:VCALENDAR
VERSION:2.0
PRODID:-//AusschreibungsRadar//Timeline//DE
CALSCALE:GREGORIAN
METHOD:PUBLISH
X-WR-CALNAME:Projekt Vergabe Neues Personaldispositionssystem für operative Betri
X-WR-TIMEZONE:Europe/Berlin
BEGIN:VEVENT
UID:318415e723d11ced@ausschreibungsradar.com
DTSTAMP:20260424T120607Z
DTSTART;VALUE=DATE:20231215
DTEND;VALUE=DATE:20231215
SUMMARY:Ausschreibung — Vergabe Neues Personaldispositionssystem für operative Betri
DESCRIPTION:Phase: Ausschreibung | Beschreibung: Angebote werden eingeholt | Link: https://ausschreibungsradar.com/ausschreibung/d3592279-0c07-4e2d-9eb7-9148c9030188/
URL:https://ausschreibungsradar.com/ausschreibung/d3592279-0c07-4e2d-9eb7-9148c9030188/
END:VEVENT
BEGIN:VEVENT
UID:bb3891cf80e6332f@ausschreibungsradar.com
DTSTAMP:20260424T120607Z
DTSTART;VALUE=DATE:20250304
DTEND;VALUE=DATE:20250304
SUMMARY:Vergabeergebnis — Vergabe Neues Personaldispositionssystem für operative Betri
DESCRIPTION:Phase: Vergabeergebnis | Beschreibung: Auftrag wurde zugeschlagen | Link: https://ausschreibungsradar.com/ausschreibung/8ff4a6ce-fa45-47d1-a587-1a030c6d0890/ | Auftragnehmer: LogObject AG
URL:https://ausschreibungsradar.com/ausschreibung/8ff4a6ce-fa45-47d1-a587-1a030c6d0890/
END:VEVENT
END:VCALENDAR
