BEGIN:VCALENDAR
VERSION:2.0
PRODID:-//AusschreibungsRadar//Timeline//DE
CALSCALE:GREGORIAN
METHOD:PUBLISH
X-WR-CALNAME:Projekt AP04-0018 Bohrplanung
X-WR-TIMEZONE:Europe/Berlin
BEGIN:VEVENT
UID:de3e4a7f0980a953@ausschreibungsradar.com
DTSTAMP:20260425T184701Z
DTSTART;VALUE=DATE:20250815
DTEND;VALUE=DATE:20250815
SUMMARY:Ausschreibung — AP04-0018 Bohrplanung
DESCRIPTION:Phase: Ausschreibung | Beschreibung: Angebote werden eingeholt | Link: https://ausschreibungsradar.com/ausschreibung/d37d1df3-ff1a-4640-98b6-1af0b3266458/
URL:https://ausschreibungsradar.com/ausschreibung/d37d1df3-ff1a-4640-98b6-1af0b3266458/
END:VEVENT
BEGIN:VEVENT
UID:a900d17f9e8e89bb@ausschreibungsradar.com
DTSTAMP:20260425T184701Z
DTSTART;VALUE=DATE:20250815
DTEND;VALUE=DATE:20250815
SUMMARY:Ausschreibung — AP04-0018 Bohrplanung
DESCRIPTION:Phase: Ausschreibung | Beschreibung: Offizielle Ausschreibung mit Bieterfrist. | Link: https://ausschreibungsradar.com/ausschreibung/d4b5ca13-94e3-43e7-bf32-bd8d57484fdb/
URL:https://ausschreibungsradar.com/ausschreibung/d4b5ca13-94e3-43e7-bf32-bd8d57484fdb/
END:VEVENT
BEGIN:VEVENT
UID:fb5a60c05b766120@ausschreibungsradar.com
DTSTAMP:20260425T184701Z
DTSTART;VALUE=DATE:20251208
DTEND;VALUE=DATE:20251208
SUMMARY:Vergabeergebnis — AP04-0018 Bohrplanung
DESCRIPTION:Phase: Vergabeergebnis | Beschreibung: Auftrag wurde zugeschlagen | Link: https://ausschreibungsradar.com/ausschreibung/19ab2bc9-4e27-47f3-8491-126bc2cadfbf/
URL:https://ausschreibungsradar.com/ausschreibung/19ab2bc9-4e27-47f3-8491-126bc2cadfbf/
END:VEVENT
END:VCALENDAR
