BEGIN:VCALENDAR
VERSION:2.0
PRODID:-//AusschreibungsRadar//Timeline//DE
CALSCALE:GREGORIAN
METHOD:PUBLISH
X-WR-CALNAME:Projekt 24-01 GSA - Erweiterung und Sanierung der Grundschule Abensb
X-WR-TIMEZONE:Europe/Berlin
BEGIN:VEVENT
UID:6d75f462cc2cdbef@ausschreibungsradar.com
DTSTAMP:20260423T232429Z
DTSTART;VALUE=DATE:20250509
DTEND;VALUE=DATE:20250509
SUMMARY:Zuschlag — 24-01 GSA - Erweiterung und Sanierung der Grundschule Abensb
DESCRIPTION:Phase: Zuschlag | Beschreibung: Vergabeergebnis — Auftrag wurde erteilt oder Verfahren beendet. | Link: https://ausschreibungsradar.com/ausschreibung/9d593dcd-6034-4827-b474-ced7956a40b5/
URL:https://ausschreibungsradar.com/ausschreibung/9d593dcd-6034-4827-b474-ced7956a40b5/
END:VEVENT
BEGIN:VEVENT
UID:cb6a2626cc02109c@ausschreibungsradar.com
DTSTAMP:20260423T232429Z
DTSTART;VALUE=DATE:20250509
DTEND;VALUE=DATE:20250509
SUMMARY:Zuschlag — 24-01 GSA - Erweiterung und Sanierung der Grundschule Abensb
DESCRIPTION:Phase: Zuschlag | Beschreibung: Vergabeergebnis — Auftrag wurde erteilt oder Verfahren beendet. | Link: https://ausschreibungsradar.com/ausschreibung/739a8314-f4af-4649-aff8-4a6d4df5c6ef/
URL:https://ausschreibungsradar.com/ausschreibung/739a8314-f4af-4649-aff8-4a6d4df5c6ef/
END:VEVENT
BEGIN:VEVENT
UID:a707f3e9ac61acdc@ausschreibungsradar.com
DTSTAMP:20260423T232429Z
DTSTART;VALUE=DATE:20250509
DTEND;VALUE=DATE:20250509
SUMMARY:Zuschlag — 24-01 GSA - Erweiterung und Sanierung der Grundschule Abensb
DESCRIPTION:Phase: Zuschlag | Beschreibung: Vergabeergebnis — Auftrag wurde erteilt oder Verfahren beendet. | Link: https://ausschreibungsradar.com/ausschreibung/f97c0704-22e9-4b24-8af4-9bab87c7c2b0/
URL:https://ausschreibungsradar.com/ausschreibung/f97c0704-22e9-4b24-8af4-9bab87c7c2b0/
END:VEVENT
BEGIN:VEVENT
UID:611bedb4c9cbced5@ausschreibungsradar.com
DTSTAMP:20260423T232429Z
DTSTART;VALUE=DATE:20250509
DTEND;VALUE=DATE:20250509
SUMMARY:Zuschlag — 24-01 GSA - Erweiterung und Sanierung der Grundschule Abensb
DESCRIPTION:Phase: Zuschlag | Beschreibung: Vergabeergebnis — Auftrag wurde erteilt oder Verfahren beendet. | Link: https://ausschreibungsradar.com/ausschreibung/a3abfff4-7eaa-4d41-a2bf-b64a064c81da/
URL:https://ausschreibungsradar.com/ausschreibung/a3abfff4-7eaa-4d41-a2bf-b64a064c81da/
END:VEVENT
BEGIN:VEVENT
UID:24ceae2cf6eb8351@ausschreibungsradar.com
DTSTAMP:20260423T232429Z
DTSTART;VALUE=DATE:20250624
DTEND;VALUE=DATE:20250624
SUMMARY:Angebotsfrist — 24-01 GSA - Erweiterung und Sanierung der Grundschule Abensb
DESCRIPTION:Phase: Ausschreibung | Beschreibung: Angebote werden eingeholt | Link: https://ausschreibungsradar.com/ausschreibung/d3a453c7-a32e-4cae-a07e-e3f0a615a9b4/
URL:https://ausschreibungsradar.com/ausschreibung/d3a453c7-a32e-4cae-a07e-e3f0a615a9b4/
END:VEVENT
BEGIN:VEVENT
UID:df2a18662fd4f6d5@ausschreibungsradar.com
DTSTAMP:20260423T232429Z
DTSTART;VALUE=DATE:20250822
DTEND;VALUE=DATE:20250822
SUMMARY:Vergabeergebnis — 24-01 GSA - Erweiterung und Sanierung der Grundschule Abensb
DESCRIPTION:Phase: Vergabeergebnis | Beschreibung: Auftrag wurde zugeschlagen | Link: https://ausschreibungsradar.com/ausschreibung/73b13998-86fe-4c2e-9897-74dc6ef233b7/
URL:https://ausschreibungsradar.com/ausschreibung/73b13998-86fe-4c2e-9897-74dc6ef233b7/
END:VEVENT
END:VCALENDAR
