BEGIN:VCALENDAR
VERSION:2.0
PRODID:-//AusschreibungsRadar//Timeline//DE
CALSCALE:GREGORIAN
METHOD:PUBLISH
X-WR-CALNAME:Projekt 0057 - Klinikum Memmingen, Neubau Klinikum - OP-Leuchten
X-WR-TIMEZONE:Europe/Berlin
BEGIN:VEVENT
UID:c9806411a7c67679@ausschreibungsradar.com
DTSTAMP:20260424T082054Z
DTSTART;VALUE=DATE:20260407
DTEND;VALUE=DATE:20260407
SUMMARY:Angebotsfrist — 0057 - Klinikum Memmingen\, Neubau Klinikum - OP-Leuchten
DESCRIPTION:Phase: Ausschreibung | Beschreibung: Angebote werden eingeholt | Link: https://ausschreibungsradar.com/ausschreibung/d3d5b40e-de21-4a84-ac66-25e537bd4bf1/
URL:https://ausschreibungsradar.com/ausschreibung/d3d5b40e-de21-4a84-ac66-25e537bd4bf1/
END:VEVENT
BEGIN:VEVENT
UID:6f5b9e35280e0fb7@ausschreibungsradar.com
DTSTAMP:20260424T082054Z
DTSTART;VALUE=DATE:20260213
DTEND;VALUE=DATE:20260213
SUMMARY:Ausschreibung — 0057 - Klinikum Memmingen\, Neubau Klinikum - OP-Leuchten
DESCRIPTION:Phase: Ausschreibung | Beschreibung: Offizielle Ausschreibung mit Bieterfrist. | Link: https://ausschreibungsradar.com/ausschreibung/7a1de8da-b0b1-404a-b642-6341aae7be6a/
URL:https://ausschreibungsradar.com/ausschreibung/7a1de8da-b0b1-404a-b642-6341aae7be6a/
END:VEVENT
BEGIN:VEVENT
UID:b2dc821bd12ddfae@ausschreibungsradar.com
DTSTAMP:20260424T082054Z
DTSTART;VALUE=DATE:20260213
DTEND;VALUE=DATE:20260213
SUMMARY:Ausschreibung — 0057 - Klinikum Memmingen\, Neubau Klinikum - OP-Leuchten
DESCRIPTION:Phase: Ausschreibung | Beschreibung: Offizielle Ausschreibung mit Bieterfrist. | Link: https://ausschreibungsradar.com/ausschreibung/d6b171d0-79d2-4a76-858f-c3927272c387/
URL:https://ausschreibungsradar.com/ausschreibung/d6b171d0-79d2-4a76-858f-c3927272c387/
END:VEVENT
BEGIN:VEVENT
UID:c3d8e65880d91904@ausschreibungsradar.com
DTSTAMP:20260424T082054Z
DTSTART;VALUE=DATE:20260213
DTEND;VALUE=DATE:20260213
SUMMARY:Ausschreibung — 0057 - Klinikum Memmingen\, Neubau Klinikum - OP-Leuchten
DESCRIPTION:Phase: Ausschreibung | Beschreibung: Offizielle Ausschreibung mit Bieterfrist. | Link: https://ausschreibungsradar.com/ausschreibung/fb0a5918-9610-4798-bf99-b2cfe7ed3de8/
URL:https://ausschreibungsradar.com/ausschreibung/fb0a5918-9610-4798-bf99-b2cfe7ed3de8/
END:VEVENT
BEGIN:VEVENT
UID:820d42569e17d88e@ausschreibungsradar.com
DTSTAMP:20260424T082054Z
DTSTART;VALUE=DATE:20260220
DTEND;VALUE=DATE:20260220
SUMMARY:Ausschreibung — 0057 - Klinikum Memmingen\, Neubau Klinikum - OP-Leuchten
DESCRIPTION:Phase: Ausschreibung | Beschreibung: Offizielle Ausschreibung mit Bieterfrist. | Link: https://ausschreibungsradar.com/ausschreibung/5dff612b-6688-4a18-8da8-f1375606d81c/
URL:https://ausschreibungsradar.com/ausschreibung/5dff612b-6688-4a18-8da8-f1375606d81c/
END:VEVENT
BEGIN:VEVENT
UID:d812ccbb2ac307fd@ausschreibungsradar.com
DTSTAMP:20260424T082054Z
DTSTART;VALUE=DATE:20260220
DTEND;VALUE=DATE:20260220
SUMMARY:Ausschreibung — 0057 - Klinikum Memmingen\, Neubau Klinikum - OP-Leuchten
DESCRIPTION:Phase: Ausschreibung | Beschreibung: Offizielle Ausschreibung mit Bieterfrist. | Link: https://ausschreibungsradar.com/ausschreibung/6c9c546b-9511-4f2e-925c-7cf2654e6827/
URL:https://ausschreibungsradar.com/ausschreibung/6c9c546b-9511-4f2e-925c-7cf2654e6827/
END:VEVENT
END:VCALENDAR
