BEGIN:VCALENDAR
VERSION:2.0
PRODID:-//AusschreibungsRadar//Timeline//DE
CALSCALE:GREGORIAN
METHOD:PUBLISH
X-WR-CALNAME:Projekt VgV Fachplanung TGA (HLS) Neubau Johann-Peter-Hebel-Grundsch
X-WR-TIMEZONE:Europe/Berlin
BEGIN:VEVENT
UID:fc3bb22cdfb02982@ausschreibungsradar.com
DTSTAMP:20260425T173304Z
DTSTART;VALUE=DATE:20240720
DTEND;VALUE=DATE:20240720
SUMMARY:Zuschlag — VgV Fachplanung TGA (HLS) Neubau Johann-Peter-Hebel-Grundsch
DESCRIPTION:Phase: Zuschlag | Beschreibung: Vergabeergebnis — Auftrag wurde erteilt oder Verfahren beendet. | Link: https://ausschreibungsradar.com/ausschreibung/d3d9858d-6088-4d1f-ac27-cf8664dbfa99/
URL:https://ausschreibungsradar.com/ausschreibung/d3d9858d-6088-4d1f-ac27-cf8664dbfa99/
END:VEVENT
BEGIN:VEVENT
UID:dcd7006152b4313a@ausschreibungsradar.com
DTSTAMP:20260425T173304Z
DTSTART;VALUE=DATE:20240720
DTEND;VALUE=DATE:20240720
SUMMARY:Zuschlag — VgV Fachplanung TGA (HLS) Neubau Johann-Peter-Hebel-Grundsch
DESCRIPTION:Phase: Zuschlag | Beschreibung: Vergabeergebnis — Auftrag wurde erteilt oder Verfahren beendet. | Link: https://ausschreibungsradar.com/ausschreibung/4cd4263a-47c4-44cd-82db-c51685384594/
URL:https://ausschreibungsradar.com/ausschreibung/4cd4263a-47c4-44cd-82db-c51685384594/
END:VEVENT
END:VCALENDAR
