BEGIN:VCALENDAR
VERSION:2.0
PRODID:-//AusschreibungsRadar//Timeline//DE
CALSCALE:GREGORIAN
METHOD:PUBLISH
X-WR-CALNAME:Projekt GS Firmenich Lüftungsarbeiten
X-WR-TIMEZONE:Europe/Berlin
BEGIN:VEVENT
UID:c498a5e3fe0c8c75@ausschreibungsradar.com
DTSTAMP:20260424T135855Z
DTSTART;VALUE=DATE:20240920
DTEND;VALUE=DATE:20240920
SUMMARY:Angebotsfrist — GS Firmenich Lüftungsarbeiten
DESCRIPTION:Phase: Ausschreibung | Beschreibung: Angebote werden eingeholt | Link: https://ausschreibungsradar.com/ausschreibung/d4574426-326c-4ffb-b767-08a440d7cc06/ | Geschätzter Wert: 800000 €
URL:https://ausschreibungsradar.com/ausschreibung/d4574426-326c-4ffb-b767-08a440d7cc06/
END:VEVENT
END:VCALENDAR
