BEGIN:VCALENDAR
VERSION:2.0
PRODID:-//AusschreibungsRadar//Timeline//DE
CALSCALE:GREGORIAN
METHOD:PUBLISH
X-WR-CALNAME:Projekt Respekthaus, Heizanlagen und zentrale Wassererwärmungsanlage
X-WR-TIMEZONE:Europe/Berlin
BEGIN:VEVENT
UID:9b871484d78c553c@ausschreibungsradar.com
DTSTAMP:20260425T194419Z
DTSTART;VALUE=DATE:20260225
DTEND;VALUE=DATE:20260225
SUMMARY:Angebotsfrist — Respekthaus\, Heizanlagen und zentrale Wassererwärmungsanlage
DESCRIPTION:Phase: Ausschreibung | Beschreibung: Angebote werden eingeholt | Link: https://ausschreibungsradar.com/ausschreibung/d4dc59bf-f4da-4811-9a47-0596e4583e27/
URL:https://ausschreibungsradar.com/ausschreibung/d4dc59bf-f4da-4811-9a47-0596e4583e27/
END:VEVENT
BEGIN:VEVENT
UID:31053767882944d5@ausschreibungsradar.com
DTSTAMP:20260425T194419Z
DTSTART;VALUE=DATE:20260121
DTEND;VALUE=DATE:20260121
SUMMARY:Ausschreibung — Respekthaus\, Heizanlagen und zentrale Wassererwärmungsanlage
DESCRIPTION:Phase: Ausschreibung | Beschreibung: Offizielle Ausschreibung mit Bieterfrist. | Link: https://ausschreibungsradar.com/ausschreibung/4f7b47b4-ba1b-4ee3-a4fc-456483ce764d/
URL:https://ausschreibungsradar.com/ausschreibung/4f7b47b4-ba1b-4ee3-a4fc-456483ce764d/
END:VEVENT
END:VCALENDAR
