BEGIN:VCALENDAR
VERSION:2.0
PRODID:-//AusschreibungsRadar//Timeline//DE
CALSCALE:GREGORIAN
METHOD:PUBLISH
X-WR-CALNAME:Projekt Erweiterung der Klinik für Dermatologie - Anbau _ Tragwerksp
X-WR-TIMEZONE:Europe/Berlin
BEGIN:VEVENT
UID:462bcf7a93f4a9d3@ausschreibungsradar.com
DTSTAMP:20260425T131727Z
DTSTART;VALUE=DATE:20251029
DTEND;VALUE=DATE:20251029
SUMMARY:Ausschreibung — Erweiterung der Klinik für Dermatologie - Anbau _ Tragwerksp
DESCRIPTION:Phase: Ausschreibung | Beschreibung: Offizielle Ausschreibung mit Bieterfrist. | Link: https://ausschreibungsradar.com/ausschreibung/d50366d1-b874-4759-9dbb-781cd3983105/
URL:https://ausschreibungsradar.com/ausschreibung/d50366d1-b874-4759-9dbb-781cd3983105/
END:VEVENT
BEGIN:VEVENT
UID:13cf5b676b6fbdea@ausschreibungsradar.com
DTSTAMP:20260425T131727Z
DTSTART;VALUE=DATE:20251029
DTEND;VALUE=DATE:20251029
SUMMARY:Ausschreibung — Erweiterung der Klinik für Dermatologie - Anbau _ Tragwerksp
DESCRIPTION:Phase: Ausschreibung | Beschreibung: Offizielle Ausschreibung mit Bieterfrist. | Link: https://ausschreibungsradar.com/ausschreibung/a610aa1e-c524-4a33-ae96-b79cb4325ba0/
URL:https://ausschreibungsradar.com/ausschreibung/a610aa1e-c524-4a33-ae96-b79cb4325ba0/
END:VEVENT
BEGIN:VEVENT
UID:a18eb5e9c4f94a7f@ausschreibungsradar.com
DTSTAMP:20260425T131727Z
DTSTART;VALUE=DATE:20251105
DTEND;VALUE=DATE:20251105
SUMMARY:Zuschlag — Erweiterung der Klinik für Dermatologie - Anbau _ Tragwerksp
DESCRIPTION:Phase: Zuschlag | Beschreibung: Vergabeergebnis — Auftrag wurde erteilt oder Verfahren beendet. | Link: https://ausschreibungsradar.com/ausschreibung/6d210d12-4a05-448b-a69b-c8275800010d/
URL:https://ausschreibungsradar.com/ausschreibung/6d210d12-4a05-448b-a69b-c8275800010d/
END:VEVENT
END:VCALENDAR
