BEGIN:VCALENDAR
VERSION:2.0
PRODID:-//AusschreibungsRadar//Timeline//DE
CALSCALE:GREGORIAN
METHOD:PUBLISH
X-WR-CALNAME:Projekt FSE Quedlinburg Wege- und Parkplatzflächen
X-WR-TIMEZONE:Europe/Berlin
BEGIN:VEVENT
UID:a640d10712f9d104@ausschreibungsradar.com
DTSTAMP:20260425T233917Z
DTSTART;VALUE=DATE:20240403
DTEND;VALUE=DATE:20240403
SUMMARY:Angebotsfrist — FSE Quedlinburg Wege- und Parkplatzflächen
DESCRIPTION:Phase: Ausschreibung | Beschreibung: Angebote werden eingeholt | Link: https://ausschreibungsradar.com/ausschreibung/d52f933f-2ef2-4b7a-968e-1afd0f30f070/ | Geschätzter Wert: 800000 €
URL:https://ausschreibungsradar.com/ausschreibung/d52f933f-2ef2-4b7a-968e-1afd0f30f070/
END:VEVENT
BEGIN:VEVENT
UID:cc735f4f48d6af9f@ausschreibungsradar.com
DTSTAMP:20260425T233917Z
DTSTART;VALUE=DATE:20240318
DTEND;VALUE=DATE:20240318
SUMMARY:Ausschreibung — FSE Quedlinburg Wege- und Parkplatzflächen
DESCRIPTION:Phase: Ausschreibung | Beschreibung: Offizielle Ausschreibung mit Bieterfrist. | Link: https://ausschreibungsradar.com/ausschreibung/ted-162618-2024/
URL:https://ausschreibungsradar.com/ausschreibung/ted-162618-2024/
END:VEVENT
END:VCALENDAR
