BEGIN:VCALENDAR
VERSION:2.0
PRODID:-//AusschreibungsRadar//Timeline//DE
CALSCALE:GREGORIAN
METHOD:PUBLISH
X-WR-CALNAME:Projekt REZ NRW 45ind JC Kreis Heinsberg
X-WR-TIMEZONE:Europe/Berlin
BEGIN:VEVENT
UID:78d837128c879273@ausschreibungsradar.com
DTSTAMP:20260424T094703Z
DTSTART;VALUE=DATE:20251028
DTEND;VALUE=DATE:20251028
SUMMARY:Ausschreibung — REZ NRW 45ind JC Kreis Heinsberg
DESCRIPTION:Phase: Ausschreibung | Beschreibung: Offizielle Ausschreibung mit Bieterfrist. | Link: https://ausschreibungsradar.com/ausschreibung/7adeab9c-f259-4ef7-b590-441611ca6310/
URL:https://ausschreibungsradar.com/ausschreibung/7adeab9c-f259-4ef7-b590-441611ca6310/
END:VEVENT
BEGIN:VEVENT
UID:8fa92d7fc6372e78@ausschreibungsradar.com
DTSTAMP:20260424T094703Z
DTSTART;VALUE=DATE:20251031
DTEND;VALUE=DATE:20251031
SUMMARY:Ausschreibung — REZ NRW 45ind JC Kreis Heinsberg
DESCRIPTION:Phase: Ausschreibung | Beschreibung: Angebote werden eingeholt | Link: https://ausschreibungsradar.com/ausschreibung/d5e8f417-e16e-436c-bc0b-8ea2062fce2c/
URL:https://ausschreibungsradar.com/ausschreibung/d5e8f417-e16e-436c-bc0b-8ea2062fce2c/
END:VEVENT
BEGIN:VEVENT
UID:db62a007bfd97209@ausschreibungsradar.com
DTSTAMP:20260424T094703Z
DTSTART;VALUE=DATE:20251222
DTEND;VALUE=DATE:20251222
SUMMARY:Vergabeergebnis — REZ NRW 45ind JC Kreis Heinsberg
DESCRIPTION:Phase: Vergabeergebnis | Beschreibung: Auftrag wurde zugeschlagen | Link: https://ausschreibungsradar.com/ausschreibung/ddc7313c-3b43-43da-9e4b-6245dd0524c0/
URL:https://ausschreibungsradar.com/ausschreibung/ddc7313c-3b43-43da-9e4b-6245dd0524c0/
END:VEVENT
END:VCALENDAR
