BEGIN:VCALENDAR
VERSION:2.0
PRODID:-//AusschreibungsRadar//Timeline//DE
CALSCALE:GREGORIAN
METHOD:PUBLISH
X-WR-CALNAME:Projekt Um- und Ausbau Betriebsgelände BGL, BA 02; Neubau einer Kalt
X-WR-TIMEZONE:Europe/Berlin
BEGIN:VEVENT
UID:85e4f5284264bb07@ausschreibungsradar.com
DTSTAMP:20260424T181514Z
DTSTART;VALUE=DATE:20260116
DTEND;VALUE=DATE:20260116
SUMMARY:Ausschreibung — Um- und Ausbau Betriebsgelände BGL\, BA 02\; Neubau einer Kalt
DESCRIPTION:Phase: Ausschreibung | Beschreibung: Offizielle Ausschreibung mit Bieterfrist. | Link: https://ausschreibungsradar.com/ausschreibung/67ccbf84-7df3-44ce-9905-07c4e0082aa8/
URL:https://ausschreibungsradar.com/ausschreibung/67ccbf84-7df3-44ce-9905-07c4e0082aa8/
END:VEVENT
BEGIN:VEVENT
UID:b92df80b07769b76@ausschreibungsradar.com
DTSTAMP:20260424T181514Z
DTSTART;VALUE=DATE:20260130
DTEND;VALUE=DATE:20260130
SUMMARY:Ausschreibung — Um- und Ausbau Betriebsgelände BGL\, BA 02\; Neubau einer Kalt
DESCRIPTION:Phase: Ausschreibung | Beschreibung: Angebote werden eingeholt | Link: https://ausschreibungsradar.com/ausschreibung/d5ef1b1d-8c55-4f1a-bc48-37311e6d089a/
URL:https://ausschreibungsradar.com/ausschreibung/d5ef1b1d-8c55-4f1a-bc48-37311e6d089a/
END:VEVENT
BEGIN:VEVENT
UID:cd8012568761cbae@ausschreibungsradar.com
DTSTAMP:20260424T181514Z
DTSTART;VALUE=DATE:20260130
DTEND;VALUE=DATE:20260130
SUMMARY:Ausschreibung — Um- und Ausbau Betriebsgelände BGL\, BA 02\; Neubau einer Kalt
DESCRIPTION:Phase: Ausschreibung | Beschreibung: Offizielle Ausschreibung mit Bieterfrist. | Link: https://ausschreibungsradar.com/ausschreibung/d7d07574-c89e-4db4-b94c-9b8b7d82cafb/
URL:https://ausschreibungsradar.com/ausschreibung/d7d07574-c89e-4db4-b94c-9b8b7d82cafb/
END:VEVENT
BEGIN:VEVENT
UID:4e1a7c5af3aaa597@ausschreibungsradar.com
DTSTAMP:20260424T181514Z
DTSTART;VALUE=DATE:20260213
DTEND;VALUE=DATE:20260213
SUMMARY:Zuschlag — Um- und Ausbau Betriebsgelände BGL\, BA 02\; Neubau einer Kalt
DESCRIPTION:Phase: Zuschlag | Beschreibung: Vergabeergebnis — Auftrag wurde erteilt oder Verfahren beendet. | Link: https://ausschreibungsradar.com/ausschreibung/24993408/
URL:https://ausschreibungsradar.com/ausschreibung/24993408/
END:VEVENT
BEGIN:VEVENT
UID:40890f0b5752a46d@ausschreibungsradar.com
DTSTAMP:20260424T181514Z
DTSTART;VALUE=DATE:20260313
DTEND;VALUE=DATE:20260313
SUMMARY:Vergabeergebnis — Um- und Ausbau Betriebsgelände BGL\, BA 02\; Neubau einer Kalt
DESCRIPTION:Phase: Vergabeergebnis | Beschreibung: Auftrag wurde zugeschlagen | Link: https://ausschreibungsradar.com/ausschreibung/7d0473fa-d39a-486a-853a-4d31c5d812ed/
URL:https://ausschreibungsradar.com/ausschreibung/7d0473fa-d39a-486a-853a-4d31c5d812ed/
END:VEVENT
END:VCALENDAR
