BEGIN:VCALENDAR
VERSION:2.0
PRODID:-//AusschreibungsRadar//Timeline//DE
CALSCALE:GREGORIAN
METHOD:PUBLISH
X-WR-CALNAME:Projekt Sanierung Grundschule am Engelsberg / Ingenieurleistungen de
X-WR-TIMEZONE:Europe/Berlin
BEGIN:VEVENT
UID:c53074f85bb0802f@ausschreibungsradar.com
DTSTAMP:20260423T223630Z
DTSTART;VALUE=DATE:20240822
DTEND;VALUE=DATE:20240822
SUMMARY:Angebotsfrist — Sanierung Grundschule am Engelsberg / Ingenieurleistungen de
DESCRIPTION:Phase: Ausschreibung | Beschreibung: Angebote werden eingeholt | Link: https://ausschreibungsradar.com/ausschreibung/d5f1ac39-a36d-45ca-8274-d2afc1c771f6/
URL:https://ausschreibungsradar.com/ausschreibung/d5f1ac39-a36d-45ca-8274-d2afc1c771f6/
END:VEVENT
BEGIN:VEVENT
UID:f7d26570cebbc78f@ausschreibungsradar.com
DTSTAMP:20260423T223630Z
DTSTART;VALUE=DATE:20240715
DTEND;VALUE=DATE:20240715
SUMMARY:Ausschreibung — Sanierung Grundschule am Engelsberg / Ingenieurleistungen de
DESCRIPTION:Phase: Ausschreibung | Beschreibung: Offizielle Ausschreibung mit Bieterfrist. | Link: https://ausschreibungsradar.com/ausschreibung/aec8d025-6d39-4044-8573-e660a2aa30cf/
URL:https://ausschreibungsradar.com/ausschreibung/aec8d025-6d39-4044-8573-e660a2aa30cf/
END:VEVENT
BEGIN:VEVENT
UID:04bd9679b4f029c8@ausschreibungsradar.com
DTSTAMP:20260423T223630Z
DTSTART;VALUE=DATE:20240715
DTEND;VALUE=DATE:20240715
SUMMARY:Ausschreibung — Sanierung Grundschule am Engelsberg / Ingenieurleistungen de
DESCRIPTION:Phase: Ausschreibung | Beschreibung: Offizielle Ausschreibung mit Bieterfrist. | Link: https://ausschreibungsradar.com/ausschreibung/d74e676b-8d3b-49be-a858-ea907a41a74d/
URL:https://ausschreibungsradar.com/ausschreibung/d74e676b-8d3b-49be-a858-ea907a41a74d/
END:VEVENT
BEGIN:VEVENT
UID:c969a18e3e0223f2@ausschreibungsradar.com
DTSTAMP:20260423T223630Z
DTSTART;VALUE=DATE:20240716
DTEND;VALUE=DATE:20240716
SUMMARY:Ausschreibung — Sanierung Grundschule am Engelsberg / Ingenieurleistungen de
DESCRIPTION:Phase: Ausschreibung | Beschreibung: Offizielle Ausschreibung mit Bieterfrist. | Link: https://ausschreibungsradar.com/ausschreibung/f7d023c5-794a-4aa1-babb-d8f9183ae3b2/
URL:https://ausschreibungsradar.com/ausschreibung/f7d023c5-794a-4aa1-babb-d8f9183ae3b2/
END:VEVENT
BEGIN:VEVENT
UID:1a693eb61de540d3@ausschreibungsradar.com
DTSTAMP:20260423T223630Z
DTSTART;VALUE=DATE:20241009
DTEND;VALUE=DATE:20241009
SUMMARY:Vergabeergebnis — Sanierung Grundschule am Engelsberg / Ingenieurleistungen de
DESCRIPTION:Phase: Vergabeergebnis | Beschreibung: Auftrag wurde zugeschlagen | Link: https://ausschreibungsradar.com/ausschreibung/7342afb8-9f20-4c0a-a453-c6ee9c833034/
URL:https://ausschreibungsradar.com/ausschreibung/7342afb8-9f20-4c0a-a453-c6ee9c833034/
END:VEVENT
END:VCALENDAR
