BEGIN:VCALENDAR
VERSION:2.0
PRODID:-//AusschreibungsRadar//Timeline//DE
CALSCALE:GREGORIAN
METHOD:PUBLISH
X-WR-CALNAME:Projekt Lieferung von mindestens 39 Anhängern "Netzersatzanlage 120 
X-WR-TIMEZONE:Europe/Berlin
BEGIN:VEVENT
UID:9f0dedac33c7280b@ausschreibungsradar.com
DTSTAMP:20260425T143808Z
DTSTART;VALUE=DATE:20251222
DTEND;VALUE=DATE:20251222
SUMMARY:Ausschreibung — Lieferung von mindestens 39 Anhängern "Netzersatzanlage 120 
DESCRIPTION:Phase: Ausschreibung | Beschreibung: Angebote werden eingeholt | Link: https://ausschreibungsradar.com/ausschreibung/d5fc693e-b2f1-4090-bebd-60c740e9c327/
URL:https://ausschreibungsradar.com/ausschreibung/d5fc693e-b2f1-4090-bebd-60c740e9c327/
END:VEVENT
BEGIN:VEVENT
UID:069bf1ea90835f94@ausschreibungsradar.com
DTSTAMP:20260425T143808Z
DTSTART;VALUE=DATE:20251222
DTEND;VALUE=DATE:20251222
SUMMARY:Ausschreibung — Lieferung von mindestens 39 Anhängern "Netzersatzanlage 120 
DESCRIPTION:Phase: Ausschreibung | Beschreibung: Offizielle Ausschreibung mit Bieterfrist. | Link: https://ausschreibungsradar.com/ausschreibung/edfb247f-9b35-4f63-bb4f-80533bdd87ed/
URL:https://ausschreibungsradar.com/ausschreibung/edfb247f-9b35-4f63-bb4f-80533bdd87ed/
END:VEVENT
END:VCALENDAR
