BEGIN:VCALENDAR
VERSION:2.0
PRODID:-//AusschreibungsRadar//Timeline//DE
CALSCALE:GREGORIAN
METHOD:PUBLISH
X-WR-CALNAME:Projekt Luisenblock Ost I (LBO I) für den Deutschen Bundestag in Ber
X-WR-TIMEZONE:Europe/Berlin
BEGIN:VEVENT
UID:98ed7fcb9c8d7723@ausschreibungsradar.com
DTSTAMP:20260425T213109Z
DTSTART;VALUE=DATE:20240514
DTEND;VALUE=DATE:20240514
SUMMARY:Ausschreibung — Luisenblock Ost I (LBO I) für den Deutschen Bundestag in Ber
DESCRIPTION:Phase: Ausschreibung | Beschreibung: Angebote werden eingeholt | Link: https://ausschreibungsradar.com/ausschreibung/221e78d0-adaf-4a0b-a002-bc84bac47a79/
URL:https://ausschreibungsradar.com/ausschreibung/221e78d0-adaf-4a0b-a002-bc84bac47a79/
END:VEVENT
BEGIN:VEVENT
UID:8b25291e198a65ae@ausschreibungsradar.com
DTSTAMP:20260425T213109Z
DTSTART;VALUE=DATE:20250210
DTEND;VALUE=DATE:20250210
SUMMARY:Vergabeergebnis — Luisenblock Ost I (LBO I) für den Deutschen Bundestag in Ber
DESCRIPTION:Phase: Vergabeergebnis | Beschreibung: Auftrag wurde zugeschlagen | Link: https://ausschreibungsradar.com/ausschreibung/d6445935-de92-4106-a49e-e026c335c59c/ | Auftragnehmer: ZECH Hochbau AG
URL:https://ausschreibungsradar.com/ausschreibung/d6445935-de92-4106-a49e-e026c335c59c/
END:VEVENT
BEGIN:VEVENT
UID:100cf027329c6b83@ausschreibungsradar.com
DTSTAMP:20260425T213109Z
DTSTART;VALUE=DATE:20250210
DTEND;VALUE=DATE:20250210
SUMMARY:Zuschlag — Luisenblock Ost I (LBO I) für den Deutschen Bundestag in Ber
DESCRIPTION:Phase: Zuschlag | Beschreibung: Vergabeergebnis — Auftrag wurde erteilt oder Verfahren beendet. | Link: https://ausschreibungsradar.com/ausschreibung/1c2085e6-9898-470a-90bb-731da336ea34/
URL:https://ausschreibungsradar.com/ausschreibung/1c2085e6-9898-470a-90bb-731da336ea34/
END:VEVENT
END:VCALENDAR
