BEGIN:VCALENDAR
VERSION:2.0
PRODID:-//AusschreibungsRadar//Timeline//DE
CALSCALE:GREGORIAN
METHOD:PUBLISH
X-WR-CALNAME:Projekt Rahmenvereinbarung zu der Lieferung von digitalen Tafeln Los
X-WR-TIMEZONE:Europe/Berlin
BEGIN:VEVENT
UID:786566a66e4268ac@ausschreibungsradar.com
DTSTAMP:20260426T021252Z
DTSTART;VALUE=DATE:20260420
DTEND;VALUE=DATE:20260420
SUMMARY:Ausschreibung — Rahmenvereinbarung zu der Lieferung von digitalen Tafeln Los
DESCRIPTION:Phase: Ausschreibung | Beschreibung: Verfahren abgebrochen | Link: https://ausschreibungsradar.com/ausschreibung/d69beaaf-6979-4c8a-92da-d3704afccc89/
URL:https://ausschreibungsradar.com/ausschreibung/d69beaaf-6979-4c8a-92da-d3704afccc89/
END:VEVENT
END:VCALENDAR
