BEGIN:VCALENDAR
VERSION:2.0
PRODID:-//AusschreibungsRadar//Timeline//DE
CALSCALE:GREGORIAN
METHOD:PUBLISH
X-WR-CALNAME:Projekt Ausschreibung von Abgasabsauganlagen für den Neubau der Feue
X-WR-TIMEZONE:Europe/Berlin
BEGIN:VEVENT
UID:8428d3c1a935fdc0@ausschreibungsradar.com
DTSTAMP:20260425T221456Z
DTSTART;VALUE=DATE:20250429
DTEND;VALUE=DATE:20250429
SUMMARY:Ausschreibung — Ausschreibung von Abgasabsauganlagen für den Neubau der Feue
DESCRIPTION:Phase: Ausschreibung | Beschreibung: Angebote werden eingeholt | Link: https://ausschreibungsradar.com/ausschreibung/d6a7893a-7fba-43cc-9a99-991e6cd8f134/
URL:https://ausschreibungsradar.com/ausschreibung/d6a7893a-7fba-43cc-9a99-991e6cd8f134/
END:VEVENT
BEGIN:VEVENT
UID:fb072839692b43c1@ausschreibungsradar.com
DTSTAMP:20260425T221456Z
DTSTART;VALUE=DATE:20250429
DTEND;VALUE=DATE:20250429
SUMMARY:Ausschreibung — Ausschreibung von Abgasabsauganlagen für den Neubau der Feue
DESCRIPTION:Phase: Ausschreibung | Beschreibung: Offizielle Ausschreibung mit Bieterfrist. | Link: https://ausschreibungsradar.com/ausschreibung/edbfffee-78a5-494c-88e5-82e01567409b/
URL:https://ausschreibungsradar.com/ausschreibung/edbfffee-78a5-494c-88e5-82e01567409b/
END:VEVENT
BEGIN:VEVENT
UID:bd757f185858b3f2@ausschreibungsradar.com
DTSTAMP:20260425T221456Z
DTSTART;VALUE=DATE:20250515
DTEND;VALUE=DATE:20250515
SUMMARY:Ausschreibung — Ausschreibung von Abgasabsauganlagen für den Neubau der Feue
DESCRIPTION:Phase: Ausschreibung | Beschreibung: Offizielle Ausschreibung mit Bieterfrist. | Link: https://ausschreibungsradar.com/ausschreibung/239d45a5-1817-4d7c-9535-9b7bdd5edbe7/
URL:https://ausschreibungsradar.com/ausschreibung/239d45a5-1817-4d7c-9535-9b7bdd5edbe7/
END:VEVENT
END:VCALENDAR
