BEGIN:VCALENDAR
VERSION:2.0
PRODID:-//AusschreibungsRadar//Timeline//DE
CALSCALE:GREGORIAN
METHOD:PUBLISH
X-WR-CALNAME:Projekt Universitätsklinikum Münster - Gebäude 2920 Neubau Serviceze
X-WR-TIMEZONE:Europe/Berlin
BEGIN:VEVENT
UID:bd69283982504faa@ausschreibungsradar.com
DTSTAMP:20260425T181005Z
DTSTART;VALUE=DATE:20240916
DTEND;VALUE=DATE:20240916
SUMMARY:Angebotsfrist — Universitätsklinikum Münster - Gebäude 2920 Neubau Serviceze
DESCRIPTION:Phase: Ausschreibung | Beschreibung: Angebote werden eingeholt | Link: https://ausschreibungsradar.com/ausschreibung/ca05c977-453f-4ebd-bcd2-0807acfd9fac/
URL:https://ausschreibungsradar.com/ausschreibung/ca05c977-453f-4ebd-bcd2-0807acfd9fac/
END:VEVENT
BEGIN:VEVENT
UID:e8a331eac26e0156@ausschreibungsradar.com
DTSTAMP:20260425T181005Z
DTSTART;VALUE=DATE:20241219
DTEND;VALUE=DATE:20241219
SUMMARY:Zuschlag — Universitätsklinikum Münster - Gebäude 2920 Neubau Serviceze
DESCRIPTION:Phase: Zuschlag | Beschreibung: Vergabeergebnis — Auftrag wurde erteilt oder Verfahren beendet. | Link: https://ausschreibungsradar.com/ausschreibung/1f89316b-5cca-495a-92fd-9f31899cf4d0/
URL:https://ausschreibungsradar.com/ausschreibung/1f89316b-5cca-495a-92fd-9f31899cf4d0/
END:VEVENT
BEGIN:VEVENT
UID:46b80ccf94c982ad@ausschreibungsradar.com
DTSTAMP:20260425T181005Z
DTSTART;VALUE=DATE:20250113
DTEND;VALUE=DATE:20250113
SUMMARY:Vergabeergebnis — Universitätsklinikum Münster - Gebäude 2920 Neubau Serviceze
DESCRIPTION:Phase: Vergabeergebnis | Beschreibung: Bedarf hat sich geändert | Link: https://ausschreibungsradar.com/ausschreibung/d6c49502-f751-480b-8dd2-3fc86eea165e/ | Geschätzter Wert: 203554 €
URL:https://ausschreibungsradar.com/ausschreibung/d6c49502-f751-480b-8dd2-3fc86eea165e/
END:VEVENT
BEGIN:VEVENT
UID:37dca7aed89dbcec@ausschreibungsradar.com
DTSTAMP:20260425T181005Z
DTSTART;VALUE=DATE:20250113
DTEND;VALUE=DATE:20250113
SUMMARY:Ausschreibung — Universitätsklinikum Münster - Gebäude 2920 Neubau Serviceze
DESCRIPTION:Phase: Ausschreibung | Beschreibung: Offizielle Ausschreibung mit Bieterfrist. | Link: https://ausschreibungsradar.com/ausschreibung/135569e3-9ac2-4951-a30f-8515a9b24c5d/
URL:https://ausschreibungsradar.com/ausschreibung/135569e3-9ac2-4951-a30f-8515a9b24c5d/
END:VEVENT
END:VCALENDAR
