BEGIN:VCALENDAR
VERSION:2.0
PRODID:-//AusschreibungsRadar//Timeline//DE
CALSCALE:GREGORIAN
METHOD:PUBLISH
X-WR-CALNAME:Projekt Unterhalts- u. Glasreinigung Bayerische Staatsbibliothek
X-WR-TIMEZONE:Europe/Berlin
BEGIN:VEVENT
UID:7676fe2b58cac32a@ausschreibungsradar.com
DTSTAMP:20260425T123611Z
DTSTART;VALUE=DATE:20240325
DTEND;VALUE=DATE:20240325
SUMMARY:Angebotsfrist — Unterhalts- u. Glasreinigung Bayerische Staatsbibliothek
DESCRIPTION:Phase: Ausschreibung | Beschreibung: Angebote werden eingeholt | Link: https://ausschreibungsradar.com/ausschreibung/d6ea05ef-c9bd-489e-826f-34291acf874a/
URL:https://ausschreibungsradar.com/ausschreibung/d6ea05ef-c9bd-489e-826f-34291acf874a/
END:VEVENT
BEGIN:VEVENT
UID:85a5a78856375484@ausschreibungsradar.com
DTSTAMP:20260425T123611Z
DTSTART;VALUE=DATE:20240216
DTEND;VALUE=DATE:20240216
SUMMARY:Ausschreibung — Unterhalts- u. Glasreinigung Bayerische Staatsbibliothek
DESCRIPTION:Phase: Ausschreibung | Beschreibung: Offizielle Ausschreibung mit Bieterfrist. | Link: https://ausschreibungsradar.com/ausschreibung/570d4277-4e8f-4a60-a0f4-a6146a4b20e3/
URL:https://ausschreibungsradar.com/ausschreibung/570d4277-4e8f-4a60-a0f4-a6146a4b20e3/
END:VEVENT
BEGIN:VEVENT
UID:e8caf988ed2b3c38@ausschreibungsradar.com
DTSTAMP:20260425T123611Z
DTSTART;VALUE=DATE:20240216
DTEND;VALUE=DATE:20240216
SUMMARY:Ausschreibung — Unterhalts- u. Glasreinigung Bayerische Staatsbibliothek
DESCRIPTION:Phase: Ausschreibung | Beschreibung: Offizielle Ausschreibung mit Bieterfrist. | Link: https://ausschreibungsradar.com/ausschreibung/9c0722bb-70c1-4754-abeb-da5f75722bfc/
URL:https://ausschreibungsradar.com/ausschreibung/9c0722bb-70c1-4754-abeb-da5f75722bfc/
END:VEVENT
END:VCALENDAR
